{"text_format":"1","workbook":"xlsx","n_sheets":8,"sheets":["Erläuterungen (Fp)","Finanzplan","Personalübersicht (Fp)","Zusammenfassung","|","Erläuterungen (Fb)","Finanzbericht","Personalübersicht (Fb)"],"not_rendered":{"charts":0,"images":0,"macros":1,"external_links":0,"defined_names":57,"comments":2,"pivot_tables":0},"unopened":[],"bounds":{"document_bytes":16777216,"sheet_cells":100000,"rows_first":2000,"rows_last":500,"rows_between":2000,"halvings":0,"cell_chars":16384,"cell_head_chars":4096},"cells_cut":0,"cells_raw":0,"read":"whole","date_system":"1900"}

{"sheet":"Erläuterungen (Fp)","index":0,"n_rows":95,"n_cols":9,"rows_kept":95,"cut":false,"hidden":false,"merged":[[3,1,3,6],[16,0,16,1],[12,1,12,6],[61,0,67,0],[70,0,75,0],[15,0,15,1],[15,2,15,6],[17,0,17,1],[21,0,46,0],[14,0,14,1],[14,2,14,6],[0,1,0,6],[1,1,1,6],[4,1,4,6],[5,1,5,6],[49,0,52,0],[13,0,13,1],[13,2,13,6],[2,1,2,6],[6,0,8,0],[6,1,6,6],[7,1,8,1],[7,2,7,6],[8,2,8,6],[9,1,9,6],[10,1,10,6],[11,1,11,6]]}
["Fördernehmer*in:","Name laut ZVR-Auszug/Firmenbuchauszug "]
["Fördervorhaben:","Hier ist anzuführen, in welches Vorhaben/Projekt die Förderung fließen soll (z.B: Gesamttätigkeit 2023, Bildungstätigkeit, Projekt xxx)."]
["Förderart:","Hier ist zwischen Gesamt- und Einzelförderung zu unterscheiden; Gesamtförderung - Eine Gesamtförderung/Basisförderung ist eine Förderung zur Deckung des gesamten oder aliquoten Teiles des nach Abzug allfälliger Einnahmen verbleibenden Fehlbetrages für die bestimmungsgemäße Tätigkeit (Gesamttätigkeit oder Teilbereichstätigkeit) der*des Förderwerber*in innerhalb eines im Fördervertrag bestimmten Zeitraumes; Einzelförderung - Ist eine Förderung für ein zeitlich abgegrenztes und sachlich bestimmtes Vorhaben (z.B. Förderung eines bestimmten Projekts)."]
["Erstansuchen:","Auswahlfeld: Ja (für dieses Vorhaben wird erstmalig bei MA 13 angesucht) oder Nein (für dieses Vorhaben wird jährlich bei der MA 13 angesucht). Bei Erstansuchen (Auswahl: Ja) werden die Spalten \"Ist 2021\", \"Plan/Ist 2022\" im Finanzplan, sowie die Spalten \"2022(Vorjahr)\", \"Vergleich 22/23\" in der Personalübersicht (Fp) und die Spalte \"Ist 2022\" im Finanzbericht ausgeblendet."]
["Begründung:","Nachvollziehbare Begründungen sind in jenen Ausgaben- und Einnahmenfeldern anzuführen, in denen die Abweichung zum Plan/Ist-Wert 2022 über 2% UND EUR 1.000,-- liegt."]
["PLAN/IST:","Hier sind entweder durchgehend die Plan-Werte ODER Ist-Werte einzufügen. Sofern die Ist-Werte bereits vorliegen, wären diese den Plan-Werten vorzuziehen."]
["Overheadkosten:","Overhead bzw. Gemeinkosten (indirekte Kosten) sind jene Kosten, die nicht direkt einem Angebot/Projekt zugerechnet werden können. Dazu zählen z.B. Verwaltungspersonal und Sachkosten für zentralen Aufwand. Sollten für einzelne Positionen Berechnungsschlüssel vorliegen, können diese entsprechend aliquotiert den Overheadkosten zugerechnet werden. Dies gilt sowohl für Personal- als auch Sachkosten."]
[null,"Zu den Overheadkosten zählen:","Sämtliche Sachkosten wie z.B. Mieten inkl. Technik und Reinigung bei zentralen Geschäftsstellen."]
[null,null,"Personalkosten für Geschäftsführung, Office Management, Buchhaltung, etc., sofern diese Personen nicht mit Zielgruppen arbeiten."]
["Sachkosten:","Hier können auch noch weitere Positionen hinzugefügt werden. Die Positionen müssen jedoch dem Österreichischen Kontenrahmen entsprechen. Um Kontinuität und Vergleichbarkeit bei den Anträgen und Abrechnungen gewährleisten zu können, ist auf eine einheitliche Zuordnung der Ausgaben zu den Kostenarten zu achten. So muss z.B. im Rahmen der Abrechnung auch gewährleistet werden können, dass bei den Finanzberichten eine einfache Vergleichbarkeit zu den Einzelkontennachweisen herzustellen ist."]
["Personalkosten:","Die detaillierten Personalkosten für die Jahre 2022 und 2023 sind in der Personalübersicht vollständig anzuführen (bei Bedarf ist es möglich, noch weitere Zeilen einzufügen). Die Summe der Overhead und angebots-/projektbezogenen Personalkosten in der Personalübersicht aus den Jahren 2022 und 2023 werden automatisch in den Finanzplan eingespeist. Bei dem Jahr 2021  müssen die Summen von Overhead und angebots-/projektbezogenen Personalkosten direkt im Finanzplan eingegeben werden. "]
["Abw. in %:","Sollte bei einer Position gegenüber dem Vorjahr eine Abweichung von mindestens 2% UND EUR 1.000,-- vorliegen, ist eine nachvollziehbare Begründung anzuführen."]
["Gesamterfordernis:","NICHT BEFÜLLBAR, wird automatisch berechnet; Das Gesamterfordernis ergibt sich aus den geplanten Ausgaben abzüglich der geplanten Einnahmen. Die Differenz stellt den Förderbedarf des Vorhabens/Projekts bei der MA 13 dar."]
["Förderwerber*in:",null,"Verein X"]
["Fördervorhaben: ",null,"Bildungstätigkeit"]
["Förderart:",null,"Gesamtförderung"]
["Erstansuchen",null,"Nein"]
["Für das Jahr:",null,2023]
[]
[null,null,{"$f":"\"Ist \"&C18-2","v":"Ist 2021"},{"$f":"\"Plan/Ist \"&C18-1","v":"Plan/Ist 2022"},{"$f":"\"Plan \"&C18","v":"Plan 2023"},"Abw. in %",{"$f":"\"Begründung (wenn Abweichung gegenüber Plan/Ist \"&C18-1&\" über 2% und EUR 1.000,-- ist)\"","v":"Begründung (wenn Abweichung gegenüber Plan/Ist 2022 über 2% und EUR 1.000,-- ist)"}]
[null,"1. Sachkosten"]
["Ausgaben","Miete und Betriebskosten",6900,6900,12000,73.913043478260875,"Zusätzlicher Standort"]
[null,"Gas/Strom/Heizung",5000,4700,5000,6.3829787234042499,""]
[null,"Telefon inkl. Onlinekosten",1800,1800,1900,5.5555555555555571,""]
[null,"Büromaterial",1600,1600,1500,-6.25,""]
[null,"Porto",50,40,30,{"$f":"(E26-D26)/E26","v":-0.33333333333333331}]
[null,"Pädagogische Erfordernisse",50,40,50,25,""]
[null,"Kopier- und Druckkosten",150,150,150,0]
[null,"Versicherungen, Leasingverträge",1700,1700,1700,0,""]
[null,"Reparaturen, Instandhaltungen",4500,4500,10000,122.22222222222223,"Barrierefreie Sanitäranlagen"]
[null,"Reinigung",1500,1200,1100,{"$f":"(E31-D31)/E31","v":-9.0909090909090912E-2}]
[null,"Sonstiges Verbrauchsmaterial",500,500,500,0,""]
[null,"Informationsmaterial/ Öffentlichkeitsarbeit",2200,2800,2800,0,""]
[null,"Fachliteratur/Abos",300,200,200,0,""]
[null,"Fahrt- und Reisekosten",2200,2200,2200,0,""]
[null,"Weiterbildung",null,null,null,"-",""]
[null,"Beiträge, Gebühren, Bankspesen",1700,1500,1700,13.333333333333329,""]
[null,"Honorare (Rechts- und Beratungskosten, Supervision, etc.)",10500,12000,12000,0,""]
[null,"Geringwertige Wirtschaftsgüter (Investitionen bis zu EUR 1.000,--)",1700,1700,1700,0,""]
[null,"Investitionen über EUR 1.000,--",7200,8000,17000,112.5,"Zusätzliches Angebot inkl. neuer Standort"]
[]
[null,null,null,null,null,{"$f":"IF(OR(D42=0,E42=0),\"-\",E42/D42*100-100)","v":"-"},{"$f":"IF(ISBLANK(E42),\"\",IF(AND(OR(F42>=2,F42<=-2),OR((D42-E42)>=100,(D42-E42)<=-100)),\"Bitte Begründung in dieser Zelle angeben\",\"\"))","v":""}]
[null,null,null,null,null,"-",""]
[null,null,null,null,null,"-",""]
[null,"GESAMT",{"$f":"SUM(C22:C44)","v":49550},{"$f":"SUM(D22:D44)","v":51530},{"$f":"SUM(E22:E44)","v":71530},38.812342324859316]
[null,"davon Overheadkosten",7000,7500,8000,6.6666666666666714]
[null,"Overheadkosten in %",{"$f":"C46*100/C45","v":14.127144298688194},14.55462837182224,{"$f":"E46*100/E45","v":11.184118551656647}]
[null,null,null,null,null,null,{"$f":"IF(ISBLANK(E48),\"\",IF(AND(OR(F48>=2,F48<=-2),OR((D48-E48)>=1000,(D48-E48)<=-1000)),\"Bitte Begründung in dieser Zelle angeben\",\"\"))","v":""}]
[null,"2. Personalkosten",null,null,null,null,""]
["Ausgaben","Overhead",45000,45000,45000,{"$f":"IF(OR(D50=0,E50=0),\"-\",E50/D50*100-100)","v":0},{"$f":"IF(ISBLANK(E50),\"\",IF(AND(OR(F50>=2,F50<=-2),OR((D50-E50)>=100,(D50-E50)<=-100)),\"Bitte Begründung in dieser Zelle angeben\",\"\"))","v":""}]
[null,"Angebot/Projekt",240000,241000,245000,{"$f":"IF(OR(D51=0,E51=0),\"-\",E51/D51*100-100)","v":1.6597510373443924},""]
[null,"GESAMT",{"$f":"SUM(C50:C51)","v":285000},286000,{"$f":"SUM(E50:E51)","v":290000},{"$f":"IF(OR(D52=0,E52=0),\"-\",E52/D52*100-100)","v":1.3986013986014001}]
[null,"Overheadkosten in %",{"$f":"C50*100/C52","v":15.789473684210526},15.734265734265735,{"$f":"E50*100/E52","v":15.517241379310345},{"$f":"IF(OR(D53=0,E53=0),\"-\",E53/D53*100-100)","v":-1.3793103448275872}]
[null,null,null,null,null,null,""]
[null,"3. Gesamtkosten",null,null,null,null,""]
[null,"Summe",{"$f":"C45+C52","v":334550},{"$f":"D45+D52","v":337530},361530,{"$f":"IF(OR(D56=0,E56=0),\"-\",E56/D56*100-100)","v":7.1104790685272405}]
[null,"davon Overhead",{"$f":"C46+C50","v":52000},52500,{"$f":"E46+E50","v":53000},0.952380952380949,{"$f":"IF(ISBLANK(E57),\"\",IF(AND(OR(F57>=2,F57<=-2),OR((D57-E57)>=100,(D57-E57)<=-100)),\"Bitte Begründung in dieser Zelle angeben\",\"\"))","v":""}]
[null,"Overhead in %",{"$f":"C57*100/C56","v":15.54326707517561},15.554172962403342,{"$f":"E57*100/E56","v":14.659917572538932},-5.749295652208275]
[]
[null,null,null,null,null,null,""]
[null,"4. Einnahmen/Eigenmittel",null,null,null,null,""]
["Einnahmen","Eigene Einnahmen (Mitgliedsbeiträge, Unkostenbeiträge,…)",1180,1200,1200,{"$f":"IF(OR(D62=0,E62=0),\"-\",E62/D62*100-100)","v":0},{"$f":"IF(ISBLANK(E62),\"\",IF(AND(OR(F62>=2,F62<=-2),OR((D62-E62)>=100,(D62-E62)<=-100)),\"Bitte Begründung in dieser Zelle angeben\",\"\"))","v":""}]
[null,"Spenden",null,null,null,{"$f":"IF(OR(D63=0,E63=0),\"-\",E63/D63*100-100)","v":"-"},""]
[null,"Sponsoring",null,null,null,"-",""]
[null,"Auflösung Rücklagen/Rückstellungen",null,null,null,"-",""]
[null,null,null,null,null,"-",""]
[null,null,null,null,null,"-",""]
[null,"Summe",{"$f":"SUM(C62:C67)","v":1180},{"$f":"SUM(D62:D67)","v":1200},{"$f":"SUM(E62:E67)","v":1200},0]
[]
[null,"5. Förderungen",null,null,null,null,null,"Status","Hier ist der Status der jeweiligen Förderung im aktuellen Förderjahr anzuführen; Auswahlfeld: angesucht oder bewilligt"]
["Einnahmen","EU ",7500,null,null,{"$f":"IF(OR(D71=0,E71=0),\"-\",E71/D71*100-100)","v":"-"},{"$f":"IF(ISBLANK(E71),\"\",IF(AND(OR(F71>=2,F71<=-2),OR((D71-E71)>=100,(D71-E71)<=-100)),\"Bitte Begründung in dieser Zelle angeben\",\"\"))","v":""},"angesucht"]
[null,"Bundesministerium, bitte jedes Ministerium einzeln anführen",null,null,null,{"$f":"IF(OR(D72=0,E72=0),\"-\",E72/D72*100-100)","v":"-"},""]
[null,"Stadt Wien (OHNE MA 13)",null,null,null,"-",""]
[null,"Bezirk, bitte den jeweiligen Bezirk anführen",1500,null,null,"-","","bewilligt"]
[null,"Sonstige",null,null,null,"-",""]
[null,"Summe",{"$f":"SUM(C71:C75)","v":9000},{"$f":"SUM(D71:D75)","v":0},0,"-"]
[null,null,null,null,null,null,""]
[null,"6. Gesamteinnahmen",null,null,null,null,""]
[null,"Summe",{"$f":"C68+C76","v":10180},{"$f":"D68+D76","v":1200},{"$f":"E68+E76","v":1200},{"$f":"IF(OR(D81=0,E81=0),\"-\",E81/D81*100-100)","v":7.1358487200071465}]
[]
[null,"Gesamterfordernis",{"$f":"C56-C79","v":324370},{"$f":"D56-D79","v":336330},{"$f":"E56-E79","v":360330},{"$f":"IF(OR(D81=0,E81=0),\"-\",E81/D81*100-100)","v":7.1358487200071465}]
[]
[]
[]
[null,null,"angesucht"]
[null,null,"bewilligt"]
[]
[]
[]
[]
[]
[]
[]
[null,null,null,"Gesamtförderung"]
[null,null,null,"Einzelförderung"]

{"sheet":"Finanzplan","index":1,"n_rows":97,"n_cols":9,"rows_kept":97,"cut":false,"hidden":false,"merged":[[0,2,0,6],[1,2,1,6],[63,0,73,0],[41,0,44,0],[8,0,38,0],[53,0,60,0],[0,0,0,1],[1,0,1,1],[4,0,4,1],[4,2,4,6],[2,0,2,1],[2,2,2,6],[3,0,3,1],[3,2,3,6]]}
["Förderwerber*in:"]
["Fördervorhaben: "]
["Förderart:"]
["Erstansuchen",null,"Nein"]
["Für das Jahr:",null,2023]
[]
[null,null,{"$f":"\"Ist \"&C5-2","v":"Ist 2021"},{"$f":"\"Plan/Ist \"&C5-1","v":"Plan/Ist 2022"},{"$f":"\"Plan \"&C5","v":"Plan 2023"},"Abw. in %",{"$f":"\"Begründung (wenn Abweichung gegenüber Plan/Ist \"&C5-1&\" über 2% und EUR 1.000,-- ist)\"","v":"Begründung (wenn Abweichung gegenüber Plan/Ist 2022 über 2% und EUR 1.000,-- ist)"}]
[null,"1. Sachkosten (Sk)"]
["Ausgaben","Miete und Betriebskosten",null,null,null,{"$f":"IF(OR(D9=0,E9=0),\"-\",E9/D9*100-100)","v":"-"},null,{"$f":"IF(ISBLANK(E9),\"\",IF(AND(OR(F9>=2,F9<=-2),OR((D9-E9)>=1000,(D9-E9)<=-1000)),IF(ISBLANK(G9),'|'!B$56,\"\"),\"\"))","v":""}]
[null,"Gas/Strom/Heizung",null,null,null,"-",null,{"$f":"IF(ISBLANK(E10),\"\",IF(AND(OR(F10>=2,F10<=-2),OR((D10-E10)>=1000,(D10-E10)<=-1000)),IF(ISBLANK(G10),'|'!B$56,\"\"),\"\"))","v":""}]
[null,"Telefon inkl. Onlinekosten",null,null,null,"-",null,{"$f":"IF(ISBLANK(E11),\"\",IF(AND(OR(F11>=2,F11<=-2),OR((D11-E11)>=1000,(D11-E11)<=-1000)),IF(ISBLANK(G11),'|'!B$56,\"\"),\"\"))","v":""}]
[null,"Büromaterial",null,null,null,"-",null,{"$f":"IF(ISBLANK(E12),\"\",IF(AND(OR(F12>=2,F12<=-2),OR((D12-E12)>=1000,(D12-E12)<=-1000)),IF(ISBLANK(G12),'|'!B$56,\"\"),\"\"))","v":""}]
[null,"Porto",null,null,null,"-",null,{"$f":"IF(ISBLANK(E13),\"\",IF(AND(OR(F13>=2,F13<=-2),OR((D13-E13)>=1000,(D13-E13)<=-1000)),IF(ISBLANK(G13),'|'!B$56,\"\"),\"\"))","v":""}]
[null,"Pädagogische Erfordernisse",null,null,null,"-",null,{"$f":"IF(ISBLANK(E14),\"\",IF(AND(OR(F14>=2,F14<=-2),OR((D14-E14)>=1000,(D14-E14)<=-1000)),IF(ISBLANK(G14),'|'!B$56,\"\"),\"\"))","v":""}]
[null,"Kopier- und Druckkosten",null,null,null,"-",null,{"$f":"IF(ISBLANK(E15),\"\",IF(AND(OR(F15>=2,F15<=-2),OR((D15-E15)>=1000,(D15-E15)<=-1000)),IF(ISBLANK(G15),'|'!B$56,\"\"),\"\"))","v":""}]
[null,"Versicherungen, Leasingverträge",null,null,null,{"$f":"IF(OR(D16=0,E16=0),\"-\",E16/D16*100-100)","v":"-"},null,{"$f":"IF(ISBLANK(E16),\"\",IF(AND(OR(F16>=2,F16<=-2),OR((D16-E16)>=1000,(D16-E16)<=-1000)),IF(ISBLANK(G16),'|'!B$56,\"\"),\"\"))","v":""}]
[null,"Reparaturen, Instandhaltungen",null,null,null,"-",null,{"$f":"IF(ISBLANK(E17),\"\",IF(AND(OR(F17>=2,F17<=-2),OR((D17-E17)>=1000,(D17-E17)<=-1000)),IF(ISBLANK(G17),'|'!B$56,\"\"),\"\"))","v":""}]
[null,"Reinigung",null,null,null,"-",null,{"$f":"IF(ISBLANK(E18),\"\",IF(AND(OR(F18>=2,F18<=-2),OR((D18-E18)>=1000,(D18-E18)<=-1000)),IF(ISBLANK(G18),'|'!B$56,\"\"),\"\"))","v":""}]
[null,"Sonstiges Verbrauchsmaterial",null,null,null,"-",null,{"$f":"IF(ISBLANK(E19),\"\",IF(AND(OR(F19>=2,F19<=-2),OR((D19-E19)>=1000,(D19-E19)<=-1000)),IF(ISBLANK(G19),'|'!B$56,\"\"),\"\"))","v":""}]
[null,"Informationsmaterial/ Öffentlichkeitsarbeit",null,null,null,"-",null,{"$f":"IF(ISBLANK(E20),\"\",IF(AND(OR(F20>=2,F20<=-2),OR((D20-E20)>=1000,(D20-E20)<=-1000)),IF(ISBLANK(G20),'|'!B$56,\"\"),\"\"))","v":""}]
[null,"Fachliteratur/Abos",null,null,null,"-",null,{"$f":"IF(ISBLANK(E21),\"\",IF(AND(OR(F21>=2,F21<=-2),OR((D21-E21)>=1000,(D21-E21)<=-1000)),IF(ISBLANK(G21),'|'!B$56,\"\"),\"\"))","v":""}]
[null,"Fahrt- und Reisekosten",null,null,null,"-",null,{"$f":"IF(ISBLANK(E22),\"\",IF(AND(OR(F22>=2,F22<=-2),OR((D22-E22)>=1000,(D22-E22)<=-1000)),IF(ISBLANK(G22),'|'!B$56,\"\"),\"\"))","v":""}]
[null,"Weiterbildung",null,null,null,"-",null,{"$f":"IF(ISBLANK(E23),\"\",IF(AND(OR(F23>=2,F23<=-2),OR((D23-E23)>=1000,(D23-E23)<=-1000)),IF(ISBLANK(G23),'|'!B$56,\"\"),\"\"))","v":""}]
[null,"Beiträge, Gebühren, Bankspesen",null,null,null,"-",null,{"$f":"IF(ISBLANK(E24),\"\",IF(AND(OR(F24>=2,F24<=-2),OR((D24-E24)>=1000,(D24-E24)<=-1000)),IF(ISBLANK(G24),'|'!B$56,\"\"),\"\"))","v":""}]
[null,"Honorare (Rechts- und Beratungskosten, Supervision, etc.)",null,null,null,"-",null,{"$f":"IF(ISBLANK(E25),\"\",IF(AND(OR(F25>=2,F25<=-2),OR((D25-E25)>=1000,(D25-E25)<=-1000)),IF(ISBLANK(G25),'|'!B$56,\"\"),\"\"))","v":""}]
[null,"Geringwertige Wirtschaftsgüter (Investitionen bis zu EUR 1.000,--)",null,null,null,"-",null,{"$f":"IF(ISBLANK(E26),\"\",IF(AND(OR(F26>=2,F26<=-2),OR((D26-E26)>=1000,(D26-E26)<=-1000)),IF(ISBLANK(G26),'|'!B$56,\"\"),\"\"))","v":""}]
[null,"Investitionen über EUR 1.000,--",null,null,null,"-",null,{"$f":"IF(ISBLANK(E27),\"\",IF(AND(OR(F27>=2,F27<=-2),OR((D27-E27)>=1000,(D27-E27)<=-1000)),IF(ISBLANK(G27),'|'!B$56,\"\"),\"\"))","v":""}]
[null,null,null,null,null,"-",null,{"$f":"IF(ISBLANK(E28),\"\",IF(AND(OR(F28>=2,F28<=-2),OR((D28-E28)>=1000,(D28-E28)<=-1000)),IF(ISBLANK(G28),'|'!B$56,\"\"),\"\"))","v":""}]
[null,null,null,null,null,"-",null,{"$f":"IF(ISBLANK(E29),\"\",IF(AND(OR(F29>=2,F29<=-2),OR((D29-E29)>=1000,(D29-E29)<=-1000)),IF(ISBLANK(G29),'|'!B$56,\"\"),\"\"))","v":""}]
[null,null,null,null,null,"-",null,{"$f":"IF(ISBLANK(E30),\"\",IF(AND(OR(F30>=2,F30<=-2),OR((D30-E30)>=1000,(D30-E30)<=-1000)),IF(ISBLANK(G30),'|'!B$56,\"\"),\"\"))","v":""}]
[null,null,null,null,null,"-",null,{"$f":"IF(ISBLANK(E31),\"\",IF(AND(OR(F31>=2,F31<=-2),OR((D31-E31)>=1000,(D31-E31)<=-1000)),IF(ISBLANK(G31),'|'!B$56,\"\"),\"\"))","v":""}]
[null,null,null,null,null,"-",null,{"$f":"IF(ISBLANK(E32),\"\",IF(AND(OR(F32>=2,F32<=-2),OR((D32-E32)>=1000,(D32-E32)<=-1000)),IF(ISBLANK(G32),'|'!B$56,\"\"),\"\"))","v":""}]
[null,null,null,null,null,"-",null,{"$f":"IF(ISBLANK(E33),\"\",IF(AND(OR(F33>=2,F33<=-2),OR((D33-E33)>=1000,(D33-E33)<=-1000)),IF(ISBLANK(G33),'|'!B$56,\"\"),\"\"))","v":""}]
[null,null,null,null,null,"-",null,{"$f":"IF(ISBLANK(E34),\"\",IF(AND(OR(F34>=2,F34<=-2),OR((D34-E34)>=1000,(D34-E34)<=-1000)),IF(ISBLANK(G34),'|'!B$56,\"\"),\"\"))","v":""}]
[null,null,null,null,null,"-",null,{"$f":"IF(ISBLANK(E35),\"\",IF(AND(OR(F35>=2,F35<=-2),OR((D35-E35)>=1000,(D35-E35)<=-1000)),IF(ISBLANK(G35),'|'!B$56,\"\"),\"\"))","v":""}]
[null,null,null,null,null,"-",null,{"$f":"IF(ISBLANK(E36),\"\",IF(AND(OR(F36>=2,F36<=-2),OR((D36-E36)>=1000,(D36-E36)<=-1000)),IF(ISBLANK(G36),'|'!B$56,\"\"),\"\"))","v":""}]
[null,"GESAMT",{"$f":"SUM(C9:OFFSET(C37,-1,0))","v":0},{"$f":"SUM(D9:OFFSET(D37,-1,0))","v":0},{"$f":"SUM(E9:OFFSET(E37,-1,0))","v":0},"-"]
[null,"davon Overheadkosten",null,null,null,"-",null,{"$f":"IF(ISBLANK(E38),\"\",IF(AND(OR(F38>=2,F38<=-2),OR((D38-E38)>=1000,(D38-E38)<=-1000)),IF(ISBLANK(G38),'|'!B$56,\"\"),\"\"))","v":""}]
[null,"Overheadkosten in %",{"$f":"IF(C37,C38*100/C37,\"\")","v":""},{"$f":"IF(D37,D38*100/D37,\"\")","v":""},""]
[null,null,null,null,null,null,null,{"$f":"IF(ISBLANK(E40),\"\",IF(AND(OR(F40>=2,F40<=-2),OR((D40-E40)>=1000,(D40-E40)<=-1000)),IF(ISBLANK(G40),'|'!B$56,\"\"),\"\"))","v":""}]
[null,"2. Personalkosten",null,null,null,null,null,{"$f":"IF(ISBLANK(E41),\"\",IF(AND(OR(F41>=2,F41<=-2),OR((D41-E41)>=1000,(D41-E41)<=-1000)),IF(ISBLANK(G41),'|'!B$56,\"\"),\"\"))","v":""}]
["Ausgaben","Overhead",null,{"$f":"'Personalübersicht (Fp)'!I14","v":0},{"$f":"'Personalübersicht (Fp)'!H14","v":0},{"$f":"IF(OR(D42=0,E42=0),\"-\",E42/D42*100-100)","v":"-"},null,{"$f":"IF(ISBLANK(E42),\"\",IF(AND(OR(F42>=2,F42<=-2),OR((D42-E42)>=1000,(D42-E42)<=-1000)),IF(ISBLANK(G42),'|'!B$56,\"\"),\"\"))","v":""}]
[null,"Angebot/Projekt",null,{"$f":"'Personalübersicht (Fp)'!I55","v":0},{"$f":"'Personalübersicht (Fp)'!H55","v":0},{"$f":"IF(OR(D43=0,E43=0),\"-\",E43/D43*100-100)","v":"-"},null,{"$f":"IF(ISBLANK(E43),\"\",IF(AND(OR(F43>=2,F43<=-2),OR((D43-E43)>=1000,(D43-E43)<=-1000)),IF(ISBLANK(G43),'|'!B$56,\"\"),\"\"))","v":""}]
[null,"GESAMT",{"$f":"SUM(C42:C43)","v":0},0,{"$f":"SUM(E42:E43)","v":0},{"$f":"IF(OR(D44=0,E44=0),\"-\",E44/D44*100-100)","v":"-"}]
[null,"Overheadkosten in %",{"$f":"IF(C44,C42*100/C44,\"\")","v":""},{"$f":"IF(D44,D42*100/D44,\"\")","v":""},""]
[null,null,null,null,null,null,null,{"$f":"IF(ISBLANK(E46),\"\",IF(AND(OR(F46>=2,F46<=-2),OR((D46-E46)>=1000,(D46-E46)<=-1000)),IF(ISBLANK(G46),'|'!B$56,\"\"),\"\"))","v":""}]
[null,"3. Gesamtkosten",null,null,null,null,null,{"$f":"IF(ISBLANK(E47),\"\",IF(AND(OR(F47>=2,F47<=-2),OR((D47-E47)>=1000,(D47-E47)<=-1000)),IF(ISBLANK(G47),'|'!B$56,\"\"),\"\"))","v":""}]
[null,"Summe",{"$f":"C37+C44","v":0},{"$f":"D37+D44","v":0},0,{"$f":"IF(OR(D48=0,E48=0),\"-\",E48/D48*100-100)","v":"-"}]
[null,"davon Overhead",{"$f":"C38+C42","v":0},0,{"$f":"E38+E42","v":0},"-",null,{"$f":"IF(ISBLANK(E49),\"\",IF(AND(OR(F49>=2,F49<=-2),OR((D49-E49)>=1000,(D49-E49)<=-1000)),IF(ISBLANK(G49),'|'!B$56,\"\"),\"\"))","v":""}]
[null,"Overhead in %",{"$f":"IF(C48,C49*100/C48,\"\")","v":""},{"$f":"IF(D48,D49*100/D48,\"\")","v":""},""]
[null,null,null,null,null,null,null,{"$f":"IF(ISBLANK(E51),\"\",IF(AND(OR(F51>=2,F51<=-2),OR((D51-E51)>=1000,(D51-E51)<=-1000)),IF(ISBLANK(G51),'|'!B$56,\"\"),\"\"))","v":""}]
[null,null,null,null,null,null,null,{"$f":"IF(ISBLANK(E52),\"\",IF(AND(OR(F52>=2,F52<=-2),OR((D52-E52)>=1000,(D52-E52)<=-1000)),IF(ISBLANK(G52),'|'!B$56,\"\"),\"\"))","v":""}]
[null,"4. Einnahmen/Eigenmittel (Em)",null,null,null,null,null,{"$f":"IF(ISBLANK(E53),\"\",IF(AND(OR(F53>=2,F53<=-2),OR((D53-E53)>=1000,(D53-E53)<=-1000)),IF(ISBLANK(G53),'|'!B$56,\"\"),\"\"))","v":""}]
["Einnahmen","Eigene Einnahmen (Mitgliedsbeiträge, Unkostenbeiträge,…)",null,null,null,{"$f":"IF(OR(D54=0,E54=0),\"-\",E54/D54*100-100)","v":"-"},null,{"$f":"IF(ISBLANK(E54),\"\",IF(AND(OR(F54>=2,F54<=-2),OR((D54-E54)>=1000,(D54-E54)<=-1000)),IF(ISBLANK(G54),'|'!B$56,\"\"),\"\"))","v":""}]
[null,"Spenden",null,null,null,{"$f":"IF(OR(D55=0,E55=0),\"-\",E55/D55*100-100)","v":"-"},null,{"$f":"IF(ISBLANK(E55),\"\",IF(AND(OR(F55>=2,F55<=-2),OR((D55-E55)>=1000,(D55-E55)<=-1000)),IF(ISBLANK(G55),'|'!B$56,\"\"),\"\"))","v":""}]
[null,"Sponsoring",null,null,null,"-",null,{"$f":"IF(ISBLANK(E56),\"\",IF(AND(OR(F56>=2,F56<=-2),OR((D56-E56)>=1000,(D56-E56)<=-1000)),IF(ISBLANK(G56),'|'!B$56,\"\"),\"\"))","v":""}]
[null,"Auflösung Rücklagen/Rückstellungen",null,null,null,"-",null,{"$f":"IF(ISBLANK(E57),\"\",IF(AND(OR(F57>=2,F57<=-2),OR((D57-E57)>=1000,(D57-E57)<=-1000)),IF(ISBLANK(G57),'|'!B$56,\"\"),\"\"))","v":""}]
[null,null,null,null,null,"-",null,{"$f":"IF(ISBLANK(E58),\"\",IF(AND(OR(F58>=2,F58<=-2),OR((D58-E58)>=1000,(D58-E58)<=-1000)),IF(ISBLANK(G58),'|'!B$56,\"\"),\"\"))","v":""}]
[null,null,null,null,null,"-",null,{"$f":"IF(ISBLANK(E59),\"\",IF(AND(OR(F59>=2,F59<=-2),OR((D59-E59)>=1000,(D59-E59)<=-1000)),IF(ISBLANK(G59),'|'!B$56,\"\"),\"\"))","v":""}]
[null,null,null,null,null,"-",null,{"$f":"IF(ISBLANK(E60),\"\",IF(AND(OR(F60>=2,F60<=-2),OR((D60-E60)>=1000,(D60-E60)<=-1000)),IF(ISBLANK(G60),'|'!B$56,\"\"),\"\"))","v":""}]
[null,"Summe",{"$f":"SUM(C54:OFFSET(C61,-1,0))","v":0},{"$f":"SUM(D54:OFFSET(D61,-1,0))","v":0},{"$f":"SUM(E54:OFFSET(E61,-1,0))","v":0},{"$f":"IF(OR(D61=0,E61=0),\"-\",E61/D61*100-100)","v":"-"}]
[]
[null,"5. Förderungen (Fd)",null,null,null,null,null,"Status"]
["Einnahmen","EU",null,null,null,{"$f":"IF(OR(D64=0,E64=0),\"-\",E64/D64*100-100)","v":"-"},null,null,{"$f":"IF(ISBLANK(E64),\"\",IF(AND(OR(F64>=2,F64<=-2),OR((D64-E64)>=1000,(D64-E64)<=-1000)),IF(ISBLANK(G64),IF(ISBLANK(H64),'|'!B$57,'|'!B$56),IF(ISBLANK(E64),\"\",IF(ISBLANK(H64),'|'!B$58,\"\"))),IF(ISBLANK(H64),'|'!B$58,\"\")))","v":""}]
[null,"Bundesministerium, bitte jedes Ministerium einzeln anführen",null,null,null,{"$f":"IF(OR(D65=0,E65=0),\"-\",E65/D65*100-100)","v":"-"},null,null,{"$f":"IF(ISBLANK(E65),\"\",IF(AND(OR(F65>=2,F65<=-2),OR((D65-E65)>=1000,(D65-E65)<=-1000)),IF(ISBLANK(G65),IF(ISBLANK(H65),'|'!B$57,'|'!B$56),IF(ISBLANK(E65),\"\",IF(ISBLANK(H65),'|'!B$58,\"\"))),IF(ISBLANK(H65),'|'!B$58,\"\")))","v":""}]
[null,"Stadt Wien (OHNE MA 13); bitte jede Magistratsabteilung einzeln anführen",null,null,null,"-",null,null,{"$f":"IF(ISBLANK(E66),\"\",IF(AND(OR(F66>=2,F66<=-2),OR((D66-E66)>=1000,(D66-E66)<=-1000)),IF(ISBLANK(G66),IF(ISBLANK(H66),'|'!B$57,'|'!B$56),IF(ISBLANK(E66),\"\",IF(ISBLANK(H66),'|'!B$58,\"\"))),IF(ISBLANK(H66),'|'!B$58,\"\")))","v":""}]
[null,"Bezirk, bitte den jeweiligen Bezirk anführen",null,null,null,"-",null,null,{"$f":"IF(ISBLANK(E67),\"\",IF(AND(OR(F67>=2,F67<=-2),OR((D67-E67)>=1000,(D67-E67)<=-1000)),IF(ISBLANK(G67),IF(ISBLANK(H67),'|'!B$57,'|'!B$56),IF(ISBLANK(E67),\"\",IF(ISBLANK(H67),'|'!B$58,\"\"))),IF(ISBLANK(H67),'|'!B$58,\"\")))","v":""}]
[null,"Sozialpartner",null,null,null,"-",null,null,{"$f":"IF(ISBLANK(E68),\"\",IF(AND(OR(F68>=2,F68<=-2),OR((D68-E68)>=1000,(D68-E68)<=-1000)),IF(ISBLANK(G68),IF(ISBLANK(H68),'|'!B$57,'|'!B$56),IF(ISBLANK(E68),\"\",IF(ISBLANK(H68),'|'!B$58,\"\"))),IF(ISBLANK(H68),'|'!B$58,\"\")))","v":""}]
[null,"Sonstige",null,null,null,"-",null,null,{"$f":"IF(ISBLANK(E69),\"\",IF(AND(OR(F69>=2,F69<=-2),OR((D69-E69)>=1000,(D69-E69)<=-1000)),IF(ISBLANK(G69),IF(ISBLANK(H69),'|'!B$57,'|'!B$56),IF(ISBLANK(E69),\"\",IF(ISBLANK(H69),'|'!B$58,\"\"))),IF(ISBLANK(H69),'|'!B$58,\"\")))","v":""}]
[null,null,null,null,null,"-",null,null,{"$f":"IF(ISBLANK(E70),\"\",IF(AND(OR(F70>=2,F70<=-2),OR((D70-E70)>=1000,(D70-E70)<=-1000)),IF(ISBLANK(G70),IF(ISBLANK(H70),'|'!B$57,'|'!B$56),IF(ISBLANK(E70),\"\",IF(ISBLANK(H70),'|'!B$58,\"\"))),IF(ISBLANK(H70),'|'!B$58,\"\")))","v":""}]
[null,null,null,null,null,"-",null,null,{"$f":"IF(ISBLANK(E71),\"\",IF(AND(OR(F71>=2,F71<=-2),OR((D71-E71)>=1000,(D71-E71)<=-1000)),IF(ISBLANK(G71),IF(ISBLANK(H71),'|'!B$57,'|'!B$56),IF(ISBLANK(E71),\"\",IF(ISBLANK(H71),'|'!B$58,\"\"))),IF(ISBLANK(H71),'|'!B$58,\"\")))","v":""}]
[null,null,null,null,null,"-",null,null,{"$f":"IF(ISBLANK(E72),\"\",IF(AND(OR(F72>=2,F72<=-2),OR((D72-E72)>=1000,(D72-E72)<=-1000)),IF(ISBLANK(G72),IF(ISBLANK(H72),'|'!B$57,'|'!B$56),IF(ISBLANK(E72),\"\",IF(ISBLANK(H72),'|'!B$58,\"\"))),IF(ISBLANK(H72),'|'!B$58,\"\")))","v":""}]
[null,"Förderung MA 13, nur bei IST-Zahlen",null,null,null,"-",null,null,{"$f":"IF(ISBLANK(E73),\"\",IF(AND(OR(F73>=2,F73<=-2),OR((D73-E73)>=1000,(D73-E73)<=-1000)),IF(ISBLANK(G73),IF(ISBLANK(H73),'|'!B$57,'|'!B$56),IF(ISBLANK(E73),\"\",IF(ISBLANK(H73),'|'!B$58,\"\"))),IF(ISBLANK(H73),'|'!B$58,\"\")))","v":""}]
[null,"Summe",{"$f":"SUM(C64:OFFSET(C74,-1,0))","v":0},{"$f":"SUM(D64:OFFSET(D74,-1,0))","v":0},{"$f":"SUM(E64:OFFSET(E74,-1,0))","v":0},"-"]
[]
[null,"6. Gesamteinnahmen"]
[null,"Summe",{"$f":"C61+C74","v":0},{"$f":"D61+D74","v":0},{"$f":"E61+E74","v":0},{"$f":"IF(OR(D79=0,E79=0),\"-\",E79/D79*100-100)","v":"-"}]
[]
[null,"Gesamterfordernis (bzw. Überschuss/Defizit bei IST-Zahlen)",{"$f":"C77-C48","v":0},{"$f":"IF(ISBLANK(D73),D48-D77,D77-D48)","v":0},{"$f":"E48-E77","v":0},{"$f":"IF(OR(D79=0,E79=0),\"-\",E79/D79*100-100)","v":"-"}]
[]
[]
[]
[]
[]
[]
[]
[]
[]
[]
[]
[]
[]
[null,null,"Ja","Gesamtförderung",null,null,null,"angesucht"]
[null,null,"Nein","Einzeförderung",null,null,null,"bewilligt"]
[]
[]
[null,null,null,null,null,null,null,"<- Bitte Begründung angeben"]

{"sheet":"Personalübersicht (Fp)","index":2,"n_rows":55,"n_cols":12,"rows_kept":55,"cut":false,"hidden":false,"merged":[[3,0,12,0],[18,0,53,0],[54,0,54,4],[7,3,7,4],[8,3,8,4],[9,3,9,4],[10,3,10,4],[13,0,13,4],[14,0,14,4],[11,3,11,4],[12,3,12,4],[2,3,2,4],[3,3,3,4],[4,3,4,4],[5,3,5,4],[6,3,6,4],[14,8,14,9],[55,8,55,9],[16,10,16,11],[1,10,1,11],[3,11,12,11],[18,11,53,11],[1,8,1,9],[16,8,16,9]]}
[]
[null,null,null,null,null,null,null,null,{"$f":"Finanzplan!$C$5-1&\" (PLAN Vorjahr)\"","v":"2022 (PLAN Vorjahr)"},null,{"$f":"\"Vergleich \"&RIGHT(Finanzplan!$C$5-1,LEN(Finanzplan!$C$5-1)-2)&\"/\"&RIGHT(Finanzplan!$C$5,LEN(Finanzplan!$C$5)-2)","v":"Vergleich 22/23"}]
[null,"Funktion","höchste abgeschlossene Qualifikation","Eintritt",null,{"$f":"\"W-ST \"&Finanzplan!$C$5","v":"W-ST 2023"},"Anstellungszeitraum im Förderjahr in Monaten","Lohnkosten inkl. LNK",{"$f":"\"Lohnkosten inkl. LNK \"&Finanzplan!$C$5-1&\" (Vorjahr)\"","v":"Lohnkosten inkl. LNK 2022 (Vorjahr)"},{"$f":"\"W-ST \"&Finanzplan!$C$5-1&\" (Vorjahr)\"","v":"W-ST 2022 (Vorjahr)"},"in Euro","in%"]
["Overhead",null,null,null,null,null,null,null,null,null,{"$f":"H4-I4","v":0}]
[null,null,null,null,null,null,null,null,null,null,{"$f":"H5-I5","v":0}]
[null,null,null,null,null,null,null,null,null,null,0]
[null,null,null,null,null,null,null,null,null,null,0]
[null,null,null,null,null,null,null,null,null,null,0]
[null,null,null,null,null,null,null,null,null,null,0]
[null,null,null,null,null,null,null,null,null,null,0]
[null,null,null,null,null,null,null,null,null,null,0]
[null,null,null,null,null,null,null,null,null,null,0]
[null,null,null,null,null,null,null,null,null,null,0]
["Overhead SUMME",null,null,null,null,{"$f":"SUM(F4:F13)","v":0},null,{"$f":"SUM(H4:H13)","v":0},{"$f":"SUM(I4:I13)","v":0},{"$f":"SUM(J4:J13)","v":0},{"$f":"H14-I14","v":0},{"$f":"IF(OR(I14=0,H14=0),\"-\",H14/I14*100-100)","v":"-"}]
["GESAMT"]
[]
[null,null,null,null,null,null,null,null,{"$f":"Finanzplan!$C$5-1&\" (PLAN Vorjahr)\"","v":"2022 (PLAN Vorjahr)"},null,{"$f":"\"Vergleich \"&RIGHT(Finanzplan!$C$5-1,LEN(Finanzplan!$C$5-1)-2)&\"/\"&RIGHT(Finanzplan!$C$5,LEN(Finanzplan!$C$5)-2)","v":"Vergleich 22/23"}]
[null,"Funktion","höchte abgeschlossene Qualifikation","Angebot / Projekt","Eintritt",{"$f":"\"W-ST \"&Finanzplan!$C$5","v":"W-ST 2023"},"Anstellungszeitraum im Förderjahr in Monaten","Lohnkosten inkl. LNK",{"$f":"\" Lohnkosten inkl. LNK \"&Finanzplan!$C$5-1&\" (Vorjahr)\"","v":" Lohnkosten inkl. LNK 2022 (Vorjahr)"},{"$f":"\"W-ST \"&Finanzplan!$C$5-1&\" (Vorjahr)\"","v":"W-ST 2022 (Vorjahr)"},"in Euro","in%"]
["Angebot / Projekt",null,null,null,null,null,null,null,null,null,{"$f":"H19-I19","v":0}]
[null,null,null,null,null,null,null,null,null,null,{"$f":"H20-I20","v":0}]
[null,null,null,null,null,null,null,null,null,null,0]
[null,null,null,null,null,null,null,null,null,null,0]
[null,null,null,null,null,null,null,null,null,null,0]
[null,null,null,null,null,null,null,null,null,null,0]
[null,null,null,null,null,null,null,null,null,null,0]
[null,null,null,null,null,null,null,null,null,null,0]
[null,null,null,null,null,null,null,null,null,null,0]
[null,null,null,null,null,null,null,null,null,null,0]
[null,null,null,null,null,null,null,null,null,null,0]
[null,null,null,null,null,null,null,null,null,null,0]
[null,null,null,null,null,null,null,null,null,null,0]
[null,null,null,null,null,null,null,null,null,null,0]
[null,null,null,null,null,null,null,null,null,null,0]
[null,null,null,null,null,null,null,null,null,null,0]
[null,null,null,null,null,null,null,null,null,null,0]
[null,null,null,null,null,null,null,null,null,null,0]
[null,null,null,null,null,null,null,null,null,null,0]
[null,null,null,null,null,null,null,null,null,null,0]
[null,null,null,null,null,null,null,null,null,null,0]
[null,null,null,null,null,null,null,null,null,null,0]
[null,null,null,null,null,null,null,null,null,null,0]
[null,null,null,null,null,null,null,null,null,null,0]
[null,null,null,null,null,null,null,null,null,null,0]
[null,null,null,null,null,null,null,null,null,null,0]
[null,null,null,null,null,null,null,null,null,null,0]
[null,null,null,null,null,null,null,null,null,null,0]
[null,null,null,null,null,null,null,null,null,null,0]
[null,null,null,null,null,null,null,null,null,null,0]
[null,null,null,null,null,null,null,null,null,null,0]
[null,null,null,null,null,null,null,null,null,null,0]
[null,null,null,null,null,null,null,null,null,null,0]
[null,null,null,null,null,null,null,null,null,null,0]
[null,null,null,null,null,null,null,null,null,null,0]
[null,null,null,null,null,null,null,null,null,null,0]
["Angebot / Projekt SUMME",null,null,null,null,{"$f":"SUM(F19:F54)","v":0},null,{"$f":"SUM(H19:H54)","v":0},{"$f":"SUM(I19:I54)","v":0},{"$f":"SUM(J19:J54)","v":0},{"$f":"H55-I55","v":0},{"$f":"IF(OR(I55=0,H55=0),\"-\",H55/I55*100-100)","v":"-"}]

{"sheet":"Zusammenfassung","index":3,"n_rows":71,"n_cols":5,"rows_kept":71,"cut":false,"hidden":false,"merged":[[2,5,2,6],[45,0,52,0],[55,0,65,0],[7,0,35,0],[0,0,0,1],[0,2,0,4],[1,0,1,1],[1,2,1,4],[3,0,3,1],[3,2,3,4],[2,0,2,1],[2,2,2,4]]}
["Förderwerber*in:",null,{"$f":"Finanzplan!C1","v":0}]
["Fördervorhaben: ",null,{"$f":"Finanzplan!C2","v":0}]
["Förderart:",null,{"$f":"Finanzplan!C3","v":0}]
["Für das Jahr:",null,{"$f":"Finanzplan!C5","v":2023}]
[]
[null,null,{"$f":"\"Ist \"&C4-2","v":"Ist 2021"},{"$f":"\"Plan/Ist \"&C4-1","v":"Plan/Ist 2022"},{"$f":"\"Plan \"&C4","v":"Plan 2023"}]
[null,"1. Sachkosten"]
["Ausgaben",{"$f":"Finanzplan!B9","v":"Miete und Betriebskosten"},{"$f":"Finanzplan!C9","v":0},{"$f":"Finanzplan!D9","v":0},{"$f":"Finanzplan!E9","v":0}]
[null,{"$f":"Finanzplan!B10","v":"Gas/Strom/Heizung"},{"$f":"Finanzplan!C10","v":0},{"$f":"Finanzplan!D10","v":0},{"$f":"Finanzplan!E10","v":0}]
[null,{"$f":"Finanzplan!B11","v":"Telefon inkl. Onlinekosten"},{"$f":"Finanzplan!C11","v":0},{"$f":"Finanzplan!D11","v":0},{"$f":"Finanzplan!E11","v":0}]
[null,{"$f":"Finanzplan!B12","v":"Büromaterial"},{"$f":"Finanzplan!C12","v":0},{"$f":"Finanzplan!D12","v":0},{"$f":"Finanzplan!E12","v":0}]
[null,{"$f":"Finanzplan!B13","v":"Porto"},{"$f":"Finanzplan!C13","v":0},{"$f":"Finanzplan!D13","v":0},{"$f":"Finanzplan!E13","v":0}]
[null,{"$f":"Finanzplan!B14","v":"Pädagogische Erfordernisse"},{"$f":"Finanzplan!C14","v":0},{"$f":"Finanzplan!D14","v":0},{"$f":"Finanzplan!E14","v":0}]
[null,{"$f":"Finanzplan!B15","v":"Kopier- und Druckkosten"},{"$f":"Finanzplan!C15","v":0},{"$f":"Finanzplan!D15","v":0},{"$f":"Finanzplan!E15","v":0}]
[null,{"$f":"Finanzplan!B16","v":"Versicherungen, Leasingverträge"},{"$f":"Finanzplan!C16","v":0},{"$f":"Finanzplan!D16","v":0},{"$f":"Finanzplan!E16","v":0}]
[null,{"$f":"Finanzplan!B17","v":"Reparaturen, Instandhaltungen"},{"$f":"Finanzplan!C17","v":0},{"$f":"Finanzplan!D17","v":0},{"$f":"Finanzplan!E17","v":0}]
[null,{"$f":"Finanzplan!B18","v":"Reinigung"},{"$f":"Finanzplan!C18","v":0},{"$f":"Finanzplan!D18","v":0},{"$f":"Finanzplan!E18","v":0}]
[null,{"$f":"Finanzplan!B19","v":"Sonstiges Verbrauchsmaterial"},{"$f":"Finanzplan!C19","v":0},{"$f":"Finanzplan!D19","v":0},{"$f":"Finanzplan!E19","v":0}]
[null,{"$f":"Finanzplan!B20","v":"Informationsmaterial/ Öffentlichkeitsarbeit"},{"$f":"Finanzplan!C20","v":0},{"$f":"Finanzplan!D20","v":0},{"$f":"Finanzplan!E20","v":0}]
[null,{"$f":"Finanzplan!B21","v":"Fachliteratur/Abos"},{"$f":"Finanzplan!C21","v":0},{"$f":"Finanzplan!D21","v":0},{"$f":"Finanzplan!E21","v":0}]
[null,{"$f":"Finanzplan!B22","v":"Fahrt- und Reisekosten"},{"$f":"Finanzplan!C22","v":0},{"$f":"Finanzplan!D22","v":0},{"$f":"Finanzplan!E22","v":0}]
[null,{"$f":"Finanzplan!B23","v":"Weiterbildung"},{"$f":"Finanzplan!C23","v":0},{"$f":"Finanzplan!D23","v":0},{"$f":"Finanzplan!E23","v":0}]
[null,{"$f":"Finanzplan!B24","v":"Beiträge, Gebühren, Bankspesen"},{"$f":"Finanzplan!C24","v":0},{"$f":"Finanzplan!D24","v":0},{"$f":"Finanzplan!E24","v":0}]
[null,{"$f":"Finanzplan!B25","v":"Honorare (Rechts- und Beratungskosten, Supervision, etc.)"},{"$f":"Finanzplan!C25","v":0},{"$f":"Finanzplan!D25","v":0},{"$f":"Finanzplan!E25","v":0}]
[null,{"$f":"Finanzplan!B26","v":"Geringwertige Wirtschaftsgüter (Investitionen bis zu EUR 1.000,--)"},{"$f":"Finanzplan!C26","v":0},{"$f":"Finanzplan!D26","v":0},{"$f":"Finanzplan!E26","v":0}]
[null,{"$f":"Finanzplan!B27","v":"Investitionen über EUR 1.000,--"},{"$f":"Finanzplan!C27","v":0},{"$f":"Finanzplan!D27","v":0},{"$f":"Finanzplan!E27","v":0}]
[null,{"$f":"Finanzplan!B28","v":0},{"$f":"Finanzplan!C28","v":0},{"$f":"Finanzplan!D28","v":0},{"$f":"Finanzplan!E28","v":0}]
[null,{"$f":"Finanzplan!B29","v":0},{"$f":"Finanzplan!C29","v":0},{"$f":"Finanzplan!D29","v":0},{"$f":"Finanzplan!E29","v":0}]
[null,{"$f":"Finanzplan!B30","v":0},{"$f":"Finanzplan!C30","v":0},{"$f":"Finanzplan!D30","v":0},{"$f":"Finanzplan!E30","v":0}]
[null,{"$f":"Finanzplan!B31","v":0},{"$f":"Finanzplan!C31","v":0},{"$f":"Finanzplan!D31","v":0},{"$f":"Finanzplan!E31","v":0}]
[null,{"$f":"Finanzplan!B32","v":0},{"$f":"Finanzplan!C32","v":0},{"$f":"Finanzplan!D32","v":0},{"$f":"Finanzplan!E32","v":0}]
[null,{"$f":"Finanzplan!B33","v":0},{"$f":"Finanzplan!C33","v":0},{"$f":"Finanzplan!D33","v":0},{"$f":"Finanzplan!E33","v":0}]
[null,{"$f":"Finanzplan!B34","v":0},{"$f":"Finanzplan!C34","v":0},{"$f":"Finanzplan!D34","v":0},{"$f":"Finanzplan!E34","v":0}]
[null,{"$f":"Finanzplan!B35","v":0},{"$f":"Finanzplan!C35","v":0},{"$f":"Finanzplan!D35","v":0},{"$f":"Finanzplan!E35","v":0}]
[null,{"$f":"Finanzplan!B36","v":0},{"$f":"Finanzplan!C36","v":0},{"$f":"Finanzplan!D36","v":0},{"$f":"Finanzplan!E36","v":0}]
[null,"GESAMT",{"$f":"SUM(C8:OFFSET(C36,-1,0))","v":0},{"$f":"SUM(D8:OFFSET(D36,-1,0))","v":0},{"$f":"SUM(E8:OFFSET(E36,-1,0))","v":0}]
[]
[null,"2. Personalkosten"]
["Ausgaben","GESAMT",{"$f":"Finanzplan!C44","v":0},{"$f":"Finanzplan!D44","v":0},{"$f":"Finanzplan!E44","v":0}]
[]
[null,"3. Gesamtkosten"]
["Ausgaben","Summe",{"$f":"C36+C39","v":0},{"$f":"D36+D39","v":0},{"$f":"E36+E39","v":0}]
[]
[]
[null,"4. Einnahmen/Eigenmittel"]
["Einnahmen",{"$f":"Finanzplan!B54","v":"Eigene Einnahmen (Mitgliedsbeiträge, Unkostenbeiträge,…)"},{"$f":"Finanzplan!C54","v":0},{"$f":"Finanzplan!D54","v":0},{"$f":"Finanzplan!E54","v":0}]
[null,{"$f":"Finanzplan!B55","v":"Spenden"},{"$f":"Finanzplan!C55","v":0},{"$f":"Finanzplan!D55","v":0},{"$f":"Finanzplan!E55","v":0}]
[null,{"$f":"Finanzplan!B56","v":"Sponsoring"},{"$f":"Finanzplan!C56","v":0},{"$f":"Finanzplan!D56","v":0},{"$f":"Finanzplan!E56","v":0}]
[null,{"$f":"Finanzplan!B57","v":"Auflösung Rücklagen/Rückstellungen"},{"$f":"Finanzplan!C57","v":0},{"$f":"Finanzplan!D57","v":0},{"$f":"Finanzplan!E57","v":0}]
[null,{"$f":"Finanzplan!B58","v":0},{"$f":"Finanzplan!C58","v":0},{"$f":"Finanzplan!D58","v":0},{"$f":"Finanzplan!E58","v":0}]
[null,{"$f":"Finanzplan!B59","v":0},{"$f":"Finanzplan!C59","v":0},{"$f":"Finanzplan!D59","v":0},{"$f":"Finanzplan!E59","v":0}]
[null,{"$f":"Finanzplan!B60","v":0},{"$f":"Finanzplan!C60","v":0},{"$f":"Finanzplan!D60","v":0},{"$f":"Finanzplan!E60","v":0}]
[null,"Summe",{"$f":"SUM(C46:OFFSET(C53,-1,0))","v":0},{"$f":"SUM(D46:OFFSET(D53,-1,0))","v":0},{"$f":"SUM(E46:OFFSET(E53,-1,0))","v":0}]
[]
[null,"5. Förderungen"]
["Einnahmen",{"$f":"Finanzplan!B64","v":"EU"},{"$f":"Finanzplan!C64","v":0},{"$f":"Finanzplan!D64","v":0},{"$f":"Finanzplan!E64","v":0}]
[null,{"$f":"Finanzplan!B65","v":"Bundesministerium, bitte jedes Ministerium einzeln anführen"},{"$f":"Finanzplan!C65","v":0},{"$f":"Finanzplan!D65","v":0},{"$f":"Finanzplan!E65","v":0}]
[null,{"$f":"Finanzplan!B66","v":"Stadt Wien (OHNE MA 13); bitte jede Magistratsabteilung einzeln anführen"},{"$f":"Finanzplan!C66","v":0},{"$f":"Finanzplan!D66","v":0},{"$f":"Finanzplan!E66","v":0}]
[null,{"$f":"Finanzplan!B67","v":"Bezirk, bitte den jeweiligen Bezirk anführen"},{"$f":"Finanzplan!C67","v":0},{"$f":"Finanzplan!D67","v":0},{"$f":"Finanzplan!E67","v":0}]
[null,{"$f":"Finanzplan!B68","v":"Sozialpartner"},{"$f":"Finanzplan!C68","v":0},{"$f":"Finanzplan!D68","v":0},{"$f":"Finanzplan!E68","v":0}]
[null,{"$f":"Finanzplan!B69","v":"Sonstige"},{"$f":"Finanzplan!C69","v":0},{"$f":"Finanzplan!D69","v":0},{"$f":"Finanzplan!E69","v":0}]
[null,{"$f":"Finanzplan!B70","v":0},{"$f":"Finanzplan!C70","v":0},{"$f":"Finanzplan!D70","v":0},{"$f":"Finanzplan!E70","v":0}]
[null,{"$f":"Finanzplan!B71","v":0},{"$f":"Finanzplan!C71","v":0},{"$f":"Finanzplan!D71","v":0},{"$f":"Finanzplan!E71","v":0}]
[null,{"$f":"Finanzplan!B72","v":0},{"$f":"Finanzplan!C72","v":0},{"$f":"Finanzplan!D72","v":0},{"$f":"Finanzplan!E72","v":0}]
[null,{"$f":"Finanzplan!B73","v":"Förderung MA 13, nur bei IST-Zahlen"},{"$f":"Finanzplan!C73","v":0},{"$f":"Finanzplan!D73","v":0},{"$f":"Finanzplan!E73","v":0}]
[null,"Summe",{"$f":"SUM(C56:OFFSET(C66,-1,0))","v":0},{"$f":"SUM(D56:OFFSET(D66,-1,0))","v":0},{"$f":"SUM(E56:OFFSET(E66,-1,0))","v":0}]
[]
[null,"6. Gesamteinnahmen"]
[null,"Summe",{"$f":"C53+C66","v":0},{"$f":"D53+D66","v":0},{"$f":"E53+E66","v":0}]
[]
[null,"Gesamterfordernis (bzw. Überschuss/Defizit bei IST-Zahlen)",{"$f":"C69-C42","v":0},{"$f":"IF(ISBLANK(D58),D42-D69,D69-D42)","v":0},{"$f":"E42-E69","v":0}]

{"sheet":"|","index":4,"n_rows":63,"n_cols":2,"rows_kept":63,"cut":false,"hidden":false,"merged":[]}
[]
[]
[]
[]
[]
[]
[]
[]
[]
[]
[]
[]
[]
[]
[]
[]
[]
[]
[]
[]
[]
[]
[]
[]
[]
[]
[]
[]
[]
[]
[]
[]
[]
[]
[]
[]
[]
[]
[]
[]
[]
[]
[]
[]
[]
[]
[]
[]
[]
[null,"Gesamtförderung"]
[null,"Einzelförderung"]
[]
[null,"angesucht"]
[null,"bewilligt"]
[]
[null,"<- Bitte Begründung angeben"]
[null,"<- Bitte Begründung und Status angeben"]
[null,"<- Bitte Status angeben"]
[null,"<- Bitte Überschuss begründen"]
[null,"<- Bitte Defizit begründen"]
[]
[null,"Ja"]
[null,"Nein"]

{"sheet":"Erläuterungen (Fb)","index":5,"n_rows":97,"n_cols":7,"rows_kept":97,"cut":false,"hidden":false,"merged":[[7,1,7,6],[8,1,8,6],[9,1,9,6],[11,1,11,6],[0,1,0,6],[2,1,2,6],[3,1,3,6],[1,1,1,6],[10,1,10,6],[50,0,53,0],[62,0,68,0],[71,0,77,0],[17,0,17,1],[21,0,47,0],[4,0,6,0],[4,1,4,6],[5,1,6,1],[5,2,5,6],[6,2,6,6],[16,0,16,1],[12,1,12,6],[13,0,13,1],[13,2,13,6],[15,2,15,6],[14,0,14,1],[14,2,14,6],[15,0,15,1]]}
["Fördernehmer*in:","Name laut ZVR-Auszug/Firmenbuchauszug "]
["Förderart:","Hier ist zwischen Gesamt- und Einzelförderung zu unterscheiden; Gesamtförderung - Eine Gesamtförderung/Basisförderung ist eine Förderung zur Deckung des gesamten oder aliquoten Teiles des nach Abzug allfälliger Einnahmen verbleibenden Fehlbetrages für die bestimmungsgemäße Tätigkeit (Gesamttätigkeit oder Teilbereichstätigkeit) der*des Förderwerber*in binnerhalb eines im Fördervertrag bestimmten Zeitraumes; Einzelförderung -  Ist eine Förderung für ein zeitlich abgegrenztes und sachlich bestimmtes Vorhaben (z.B. Förderung eines bestimmten Projekts)"]
["Fördergegenstand: ","Hier ist anzuführen, welches Vorhaben/Projekt abgerechnet werden soll (z.B: Gesamttätigkeit 2021, Bildungstätigkeit, Projekt xxx)"]
["Begründung:","Nachvollziehbare Begründungen sind in jenen Ausgaben- und Einnahmenfeldern anzuführen, in denen die Abweichung zum Plan-Wert 2023 über 10 % UND EUR 1.000,-- liegt"]
["Overheadkosten:","Overhead bzw. Gemeinkosten (indirekte Kosten) sind jene Kosten, die nicht direkt einem Angebot/Projekt zugerechnet werden können. Dazu zählen z.B. Verwaltungspersonal und Sachkosten für zentralen Aufwand. Sollten für einzelne Positionen Berechnungsschlüssel vorliegen, können diese entsprechen aliquotiert den Overheadkosten zugerechnet werden. Dies gilt sowohl für Personal- als auch Sachkosten."]
[null,"Zu den Overheadkosten zählen:","Sämtliche Sachkosten, wie z.B. Mieten inkl. Technik und Reinigung bei zentralen Geschäftsstellen"]
[null,null,"Personalkosten für Geschäftsführung, Office Management, Buchhaltung etc., sofern diese Personen nicht mit Zielgruppen arbeiten"]
["Sachkosten:","Hier können auch noch weitere Positionen hinzugefügt werden. Die Positionen müssen jedoch dem Österreichischen Kontenrahmen entsprechen. Zwecks Vergleichbarkeit muss die Struktur des Finanzberichts der Struktur des Finanzplans entsprechen (gleiche Kostenpositionenf und einheitliche Zuordnung der Ausgaben zu den Kostenarten). Zudem muss im Rahmen der Abrechnung auch gewährleistet werden können, dass bei den Finanzberichten eine einfache Vergleichbarkeit zu den Einzelkontennachweisen herzustellen ist."]
["Personalkosten:","Die detaillierten Personalkosten für Plan und Ist im Jahr 2023 sind in der Personalübersicht vollständig anzuführen (bei Bedarf ist es möglich, noch weitere Zeilen einzufügen). Die Summe der Overhead- und angebots-/projektbezogenen Personalkosten in der Personalübersicht aus dem Jahr 2023 (Plan UND Ist) werden automatisch in den Finanzplan eingespeist. Bei dem Jahr 2022 müssen die Summen von Overhead und angebots-/projektbezogenen Personalkosten direkt im Finanzbericht eingegeben werden. "]
["Abw. in %:","Sollte bei einer Ist-Position gegenüber dem Plan-Wert eine Abweichung von mindestens 10% UND EUR 1.000,-- vorliegen, ist eine nachvollziehbare Begründung anzuführen"]
["Förderungen:","Die erhaltene Förderung der MA 13 ist unter \"Förderung MA 13\" anzuführen. ACHTUNG: Die Planwerte werden durch Aktivierung des Button \"Lade Förderungen aus Finanzplan\" importiert."]
["Differenz ( Gesamteinnahmen - Gesamtasugaben):","NICHT BEFÜLLBAR, wird automatisch berechnet; Die Differenz ergibt sich aus den Gesamteinnahmen abzüglich der Gesamtausgaben und stellt das Jahresergebnis dar."]
["Personalübersicht (Fb):","Zieht sich die Datenfelder Funktion, höchste abgeschlossene Qualifikation, Angebot/Projekt, Eintritt, Anstellungszeitraum in Monaten, Lohnkosten inkl. LNK/Plan und W-ST Plan aus der Personalübersicht, welche  im Rahmen der Einreichung übermittelt wurde; die restlichen Felder müssen manuell ausgefüllt werden und den IST-Stand darstellen."]
["Fördernehmer*in:",null,"Verein X"]
["Förderart:",null,"Gesamtförderung"]
["Fördergegenstand: ",null,"Bildungstätigkeit"]
["Erstansuchen:",null,"Nein"]
["Förderjahr:",null,2023]
[]
[null,null,{"$f":"\"Ist \"&C18-1","v":"Ist 2022"},{"$f":"\"Plan \"&C18","v":"Plan 2023"},{"$f":"\"Ist \"&C18","v":"Ist 2023"},"Abw. in %",{"$f":"\"Begründung (wenn Abweichung gegenüber Ist \"&C18&\" über 10% und EUR 1.000,-- ist)\"","v":"Begründung (wenn Abweichung gegenüber Ist 2023 über 10% und EUR 1.000,-- ist)"}]
[null,"1. Sachkosten"]
["Ausgaben","Miete und Betriebskosten",6900,6900,12000,73.913043478260875,"Zusätzlicher Standort"]
[null,"Gas/Strom/Heizung",5000,4700,5000,6.3829787234042499,""]
[null,"Telefon inkl. Onlinekosten",1800,1800,1900,5.5555555555555571,""]
[null,"Büromaterial",1600,1600,1500,-6.25,""]
[null,"Porto",50,40,30,{"$f":"(E26-D26)/D26","v":-0.25}]
[null,"Pädagogische Erfordernisse",50,40,50,{"$f":"(E27-D27)/D27","v":0.25},""]
[null,"Kopier- und Druckkosten",150,150,150,0]
[null,"Versicherungen, Leasingverträge",1700,1700,1700,0,""]
[null,"Reparaturen, Instandhaltungen",{"$f":"4500+7700","v":12200},{"$f":"4500+8500","v":13000},{"$f":"10000+17500","v":27500},122.22222222222223,"Barrierefreie Sanitäranlagen"]
[null,"Reinigung",1100,1200,1500,{"$f":"(E31-D31)/D31","v":0.25}]
[null,"Sonstiges Verbrauchsmaterial",500,500,500,0,""]
[null,"Informationsmaterial/ Öffentlichkeitsarbeit",2200,2800,2800,0,""]
[null,"Fachliteratur/Abos",300,200,200,0,""]
[null,"Fahrt- und Reisekosten",2200,2200,2200,0,""]
[null,"Weiterbildung",null,null,null,"-",""]
[null,"Beiträge, Gebühren, Bankspesen",1700,1500,1700,13.333333333333329,""]
[null,"Honorare (Rechts- und Beratungskosten, Supervision, etc.)",10500,12000,12000,0,""]
[null,"Geringwertige Wirtschaftsgüter (Investitionen bis zu EUR 1.000,--)",1700,1700,1700,0,""]
[null,"Investitionen über EUR 1.000,--",1700,1700,2000,{"$f":"(E40-D40)/D40","v":0.17647058823529413},""]
[null,null,null,null,null,{"$f":"IF(OR(D41=0,E41=0),\"-\",E41/D41*100-100)","v":"-"},""]
[null,null,null,null,null,"-",""]
[null,null,null,null,null,"-",{"$f":"IF(ISBLANK(E43),\"\",IF(AND(OR(F43>=2,F43<=-2),OR((D43-E43)>=100,(D43-E43)<=-100)),\"Bitte Begründung in dieser Zelle angeben\",\"\"))","v":""}]
[null,null,null,null,null,{"$f":"IF(OR(D44=0,E44=0),\"-\",E44/D44*100-100)","v":"-"},{"$f":"IF(ISBLANK(E44),\"\",IF(AND(OR(F44>=2,F44<=-2),OR((D44-E44)>=100,(D44-E44)<=-100)),\"Bitte Begründung in dieser Zelle angeben\",\"\"))","v":""}]
[null,null,null,null,null,{"$f":"IF(OR(D45=0,E45=0),\"-\",E45/D45*100-100)","v":"-"},{"$f":"IF(ISBLANK(E45),\"\",IF(AND(OR(F45>=2,F45<=-2),OR((D45-E45)>=100,(D45-E45)<=-100)),\"Bitte Begründung in dieser Zelle angeben\",\"\"))","v":""}]
[null,"GESAMT",{"$f":"SUM(C22:C45)","v":51350},{"$f":"SUM(D22:D45)","v":53730},{"$f":"SUM(E22:E45)","v":74430},{"$f":"IF(OR(D46=0,E46=0),\"-\",E46/D46*100-100)","v":38.525963149078734}]
[null,"davon Overheadkosten",7000,7500,8000,{"$f":"IF(OR(D47=0,E47=0),\"-\",E47/D47*100-100)","v":6.6666666666666714}]
[null,"Overheadkosten in %",{"$f":"C47*100/C46","v":13.631937682570594},{"$f":"D47*100/D46","v":13.958682300390842},{"$f":"E47*100/E46","v":10.748354158269516}]
[null,null,null,null,null,null,{"$f":"IF(ISBLANK(E49),\"\",IF(AND(OR(F49>=2,F49<=-2),OR((D49-E49)>=1000,(D49-E49)<=-1000)),\"Bitte Begründung in dieser Zelle angeben\",\"\"))","v":""}]
[null,"2. Personalkosten",null,null,null,null,{"$f":"IF(ISBLANK(E50),\"\",IF(AND(OR(F50>=2,F50<=-2),OR((D50-E50)>=1000,(D50-E50)<=-1000)),\"Bitte Begründung in dieser Zelle angeben\",\"\"))","v":""}]
["Ausgaben","Overhead",45000,45000,45000,{"$f":"IF(OR(D51=0,E51=0),\"-\",E51/D51*100-100)","v":0},{"$f":"IF(ISBLANK(E51),\"\",IF(AND(OR(F51>=2,F51<=-2),OR((D51-E51)>=100,(D51-E51)<=-100)),\"Bitte Begründung in dieser Zelle angeben\",\"\"))","v":""}]
[null,"Angebot/Projekt",240000,241000,245000,{"$f":"IF(OR(D52=0,E52=0),\"-\",E52/D52*100-100)","v":1.6597510373443924},{"$f":"IF(ISBLANK(E52),\"\",IF(AND(OR(F52>=2,F52<=-2),OR((D52-E52)>=100,(D52-E52)<=-100)),\"Bitte Begründung in dieser Zelle angeben\",\"\"))","v":""}]
[null,"GESAMT",{"$f":"SUM(C51:C52)","v":285000},{"$f":"SUM(D51:D52)","v":286000},{"$f":"SUM(E51:E52)","v":290000},{"$f":"IF(OR(D53=0,E53=0),\"-\",E53/D53*100-100)","v":1.3986013986014001}]
[null,"Overheadkosten in %",{"$f":"C51*100/C53","v":15.789473684210526},{"$f":"D51*100/D53","v":15.734265734265735},{"$f":"E51*100/E53","v":15.517241379310345},{"$f":"IF(OR(D54=0,E54=0),\"-\",E54/D54*100-100)","v":-1.3793103448275872}]
[null,null,null,null,null,null,{"$f":"IF(ISBLANK(E55),\"\",IF(AND(OR(F55>=2,F55<=-2),OR((D55-E55)>=1000,(D55-E55)<=-1000)),\"Bitte Begründung in dieser Zelle angeben\",\"\"))","v":""}]
[null,"3. Gesamtkosten",null,null,null,null,{"$f":"IF(ISBLANK(E56),\"\",IF(AND(OR(F56>=2,F56<=-2),OR((D56-E56)>=1000,(D56-E56)<=-1000)),\"Bitte Begründung in dieser Zelle angeben\",\"\"))","v":""}]
[null,"Summe",{"$f":"C46+C53","v":336350},{"$f":"D46+D53","v":339730},{"$f":"E46+E53","v":364430},{"$f":"IF(OR(D57=0,E57=0),\"-\",E57/D57*100-100)","v":7.2704794984252317}]
[null,"davon Overhead",{"$f":"C47+C51","v":52000},{"$f":"D47+D51","v":52500},{"$f":"E47+E51","v":53000},{"$f":"IF(OR(D58=0,E58=0),\"-\",E58/D58*100-100)","v":0.952380952380949},{"$f":"IF(ISBLANK(E58),\"\",IF(AND(OR(F58>=2,F58<=-2),OR((D58-E58)>=100,(D58-E58)<=-100)),\"Bitte Begründung in dieser Zelle angeben\",\"\"))","v":""}]
[null,"Overhead in %",{"$f":"C58*100/C57","v":15.460086219711609},{"$f":"D58*100/D57","v":15.45344832661231},{"$f":"E58*100/E57","v":14.543259336498092},{"$f":"IF(OR(D59=0,E59=0),\"-\",E59/D59*100-100)","v":-5.8898762973619654}]
[]
[null,null,null,null,null,null,{"$f":"IF(ISBLANK(E61),\"\",IF(AND(OR(F61>=2,F61<=-2),OR((D61-E61)>=1000,(D61-E61)<=-1000)),\"Bitte Begründung in dieser Zelle angeben\",\"\"))","v":""}]
[null,"4. Einnahmen/Eigenmittel",null,null,null,null,{"$f":"IF(ISBLANK(E62),\"\",IF(AND(OR(F62>=2,F62<=-2),OR((D62-E62)>=1000,(D62-E62)<=-1000)),\"Bitte Begründung in dieser Zelle angeben\",\"\"))","v":""}]
["Einnahmen","Eigene Einnahmen (Mitgliedsbeiträge, Unkostenbeiträge,…)",1180,1200,1200,{"$f":"IF(OR(D63=0,E63=0),\"-\",E63/D63*100-100)","v":0},{"$f":"IF(ISBLANK(E63),\"\",IF(AND(OR(F63>=2,F63<=-2),OR((D63-E63)>=100,(D63-E63)<=-100)),\"Bitte Begründung in dieser Zelle angeben\",\"\"))","v":""}]
[null,"Spenden",null,null,null,"-",""]
[null,"Sponsoring",null,null,null,"-",""]
[null,"Auflösung Rücklagen",null,null,null,"-",""]
[null,null,null,null,null,"-",""]
[null,null,null,null,null,"-",""]
[null,"Summe",{"$f":"SUM(C63:C68)","v":1180},{"$f":"SUM(D63:D68)","v":1200},{"$f":"SUM(E63:E68)","v":1200},0]
[]
[null,"5. Förderungen"]
["Einnahmen","EU ",7500,null,null,{"$f":"IF(OR(D72=0,E72=0),\"-\",E72/D72*100-100)","v":"-"},{"$f":"IF(ISBLANK(E72),\"\",IF(AND(OR(F72>=2,F72<=-2),OR((D72-E72)>=100,(D72-E72)<=-100)),\"Bitte Begründung in dieser Zelle angeben\",\"\"))","v":""}]
[null,"Bundesministerium",null,null,null,"-",""]
[null,"Stadt Wien (OHNE MA 13)",null,null,null,"-",""]
[null,"Bezirk, bitte den jeweiligen Bezirk anführen",1500,null,null,"-",""]
[null,"Förderung MA 13",200000,200000,200000,0,""]
[null,"Sonstige",null,null,null,"-",""]
[null,"Summe",{"$f":"SUM(C72:C77)","v":209000},{"$f":"SUM(D72:D77)","v":200000},{"$f":"SUM(E72:E77)","v":200000},0]
[null,null,null,null,null,null,{"$f":"IF(ISBLANK(E79),\"\",IF(AND(OR(F79>=2,F79<=-2),OR((D79-E79)>=1000,(D79-E79)<=-1000)),\"Bitte Begründung in dieser Zelle angeben\",\"\"))","v":""}]
[null,"6. Gesamteinnahmen",null,null,null,null,{"$f":"IF(ISBLANK(E80),\"\",IF(AND(OR(F80>=2,F80<=-2),OR((D80-E80)>=1000,(D80-E80)<=-1000)),\"Bitte Begründung in dieser Zelle angeben\",\"\"))","v":""}]
[null,"Summe",{"$f":"C69+C78","v":210180},{"$f":"D69+D78","v":201200},{"$f":"E69+E78","v":201200},{"$f":"IF(OR(D83=0,E83=0),\"-\",E83/D83*100-100)","v":17.830072908395294}]
[]
[null,"Differenz (Gesamteinnahmen - Gesamtausgaben)",{"$f":"C81-C57","v":-126170},{"$f":"D81-D57","v":-138530},-163230,{"$f":"IF(OR(D83=0,E83=0),\"-\",E83/D83*100-100)","v":17.830072908395294}]
[]
[]
[]
[]
[]
[]
[]
[]
[]
[]
[]
[]
[null,null,null,"Gesamtförderung"]
[null,null,null,"Einzelförderung"]

{"sheet":"Finanzbericht","index":6,"n_rows":98,"n_cols":8,"rows_kept":98,"cut":false,"hidden":false,"merged":[[63,0,73,0],[0,0,0,1],[0,2,0,6],[1,0,1,1],[1,2,1,6],[2,0,2,1],[2,2,2,6],[4,0,4,1],[4,2,4,6],[8,0,38,0],[41,0,44,0],[53,0,60,0],[3,0,3,1],[3,2,3,6]]}
["Fördernehmer*in:",null,{"$f":"IF(ISBLANK(Finanzplan!C1),\"\",Finanzplan!C1)","v":""}]
["Förderart:",null,{"$f":"IF(ISBLANK(Finanzplan!C3),\"\",Finanzplan!C3)","v":""}]
["Fördergegenstand:",null,{"$f":"IF(ISBLANK(Finanzplan!C2),\"\",Finanzplan!C2)","v":""}]
["Erstansuchen",null,{"$f":"IF(ISBLANK(Finanzplan!C4),\"\",Finanzplan!C4)","v":"Nein"}]
["Förderjahr:",null,{"$f":"IF(ISBLANK(Finanzplan!C5),\"\",Finanzplan!C5)","v":2023}]
[]
[null,null,{"$f":"\"Ist \"&C5-1","v":"Ist 2022"},{"$f":"\"Plan \"&C5","v":"Plan 2023"},{"$f":"\"Ist \"&C5","v":"Ist 2023"},"Abw. in %",{"$f":"\"Begründung (wenn Abweichung gegenüber Plan \"&C5&\" über 10 % und EUR 1.000,-- ist)\"","v":"Begründung (wenn Abweichung gegenüber Plan 2023 über 10 % und EUR 1.000,-- ist)"}]
[null,"1. Sachkosten (Sk)"]
["Ausgaben","Miete und Betriebskosten",null,null,null,{"$f":"IF(OR(D9=0,E9=0),\"-\",E9/D9*100-100)","v":"-"},null,{"$f":"IF(ISBLANK(E9),\"\",IF(AND(OR(F9>=10,F9<=-10),OR((D9-E9)>=1000,(D9-E9)<=-1000)),IF(ISBLANK(G9),'|'!B$56,\"\"),\"\"))","v":""}]
[null,"Gas/Strom/Heizung",null,null,null,"-",null,{"$f":"IF(ISBLANK(E10),\"\",IF(AND(OR(F10>=10,F10<=-10),OR((D10-E10)>=1000,(D10-E10)<=-1000)),IF(ISBLANK(G10),'|'!B$56,\"\"),\"\"))","v":""}]
[null,"Telefon inkl. Onlinekosten",null,null,null,"-",null,{"$f":"IF(ISBLANK(E11),\"\",IF(AND(OR(F11>=10,F11<=-10),OR((D11-E11)>=1000,(D11-E11)<=-1000)),IF(ISBLANK(G11),'|'!B$56,\"\"),\"\"))","v":""}]
[null,"Büromaterial",null,null,null,"-",null,{"$f":"IF(ISBLANK(E12),\"\",IF(AND(OR(F12>=10,F12<=-10),OR((D12-E12)>=1000,(D12-E12)<=-1000)),IF(ISBLANK(G12),'|'!B$56,\"\"),\"\"))","v":""}]
[null,"Porto",null,null,null,"-",null,{"$f":"IF(ISBLANK(E13),\"\",IF(AND(OR(F13>=10,F13<=-10),OR((D13-E13)>=1000,(D13-E13)<=-1000)),IF(ISBLANK(G13),'|'!B$56,\"\"),\"\"))","v":""}]
[null,"Pädagogische Erfordernisse",null,null,null,"-",null,{"$f":"IF(ISBLANK(E14),\"\",IF(AND(OR(F14>=10,F14<=-10),OR((D14-E14)>=1000,(D14-E14)<=-1000)),IF(ISBLANK(G14),'|'!B$56,\"\"),\"\"))","v":""}]
[null,"Kopier- und Druckkosten",null,null,null,"-",null,{"$f":"IF(ISBLANK(E15),\"\",IF(AND(OR(F15>=10,F15<=-10),OR((D15-E15)>=1000,(D15-E15)<=-1000)),IF(ISBLANK(G15),'|'!B$56,\"\"),\"\"))","v":""}]
[null,"Versicherungen, Leasingverträge",null,null,null,{"$f":"IF(OR(D16=0,E16=0),\"-\",E16/D16*100-100)","v":"-"},null,{"$f":"IF(ISBLANK(E16),\"\",IF(AND(OR(F16>=10,F16<=-10),OR((D16-E16)>=1000,(D16-E16)<=-1000)),IF(ISBLANK(G16),'|'!B$56,\"\"),\"\"))","v":""}]
[null,"Reparaturen, Instandhaltungen",null,null,null,"-",null,{"$f":"IF(ISBLANK(E17),\"\",IF(AND(OR(F17>=10,F17<=-10),OR((D17-E17)>=1000,(D17-E17)<=-1000)),IF(ISBLANK(G17),'|'!B$56,\"\"),\"\"))","v":""}]
[null,"Reinigung",null,null,null,"-",null,{"$f":"IF(ISBLANK(E18),\"\",IF(AND(OR(F18>=10,F18<=-10),OR((D18-E18)>=1000,(D18-E18)<=-1000)),IF(ISBLANK(G18),'|'!B$56,\"\"),\"\"))","v":""}]
[null,"Sonstiges Verbrauchsmaterial",null,null,null,"-",null,{"$f":"IF(ISBLANK(E19),\"\",IF(AND(OR(F19>=10,F19<=-10),OR((D19-E19)>=1000,(D19-E19)<=-1000)),IF(ISBLANK(G19),'|'!B$56,\"\"),\"\"))","v":""}]
[null,"Informationsmaterial/ Öffentlichkeitsarbeit",null,null,null,"-",null,{"$f":"IF(ISBLANK(E20),\"\",IF(AND(OR(F20>=10,F20<=-10),OR((D20-E20)>=1000,(D20-E20)<=-1000)),IF(ISBLANK(G20),'|'!B$56,\"\"),\"\"))","v":""}]
[null,"Fachliteratur/Abos",null,null,null,"-",null,{"$f":"IF(ISBLANK(E21),\"\",IF(AND(OR(F21>=10,F21<=-10),OR((D21-E21)>=1000,(D21-E21)<=-1000)),IF(ISBLANK(G21),'|'!B$56,\"\"),\"\"))","v":""}]
[null,"Fahrt- und Reisekosten",null,null,null,"-",null,{"$f":"IF(ISBLANK(E22),\"\",IF(AND(OR(F22>=10,F22<=-10),OR((D22-E22)>=1000,(D22-E22)<=-1000)),IF(ISBLANK(G22),'|'!B$56,\"\"),\"\"))","v":""}]
[null,"Weiterbildung",null,null,null,"-",null,{"$f":"IF(ISBLANK(E23),\"\",IF(AND(OR(F23>=10,F23<=-10),OR((D23-E23)>=1000,(D23-E23)<=-1000)),IF(ISBLANK(G23),'|'!B$56,\"\"),\"\"))","v":""}]
[null,"Beiträge, Gebühren, Bankspesen",null,null,null,"-",null,{"$f":"IF(ISBLANK(E24),\"\",IF(AND(OR(F24>=10,F24<=-10),OR((D24-E24)>=1000,(D24-E24)<=-1000)),IF(ISBLANK(G24),'|'!B$56,\"\"),\"\"))","v":""}]
[null,"Honorare (Rechts- und Beratungskosten, Supervision, etc.)",null,null,null,"-",null,{"$f":"IF(ISBLANK(E25),\"\",IF(AND(OR(F25>=10,F25<=-10),OR((D25-E25)>=1000,(D25-E25)<=-1000)),IF(ISBLANK(G25),'|'!B$56,\"\"),\"\"))","v":""}]
[null,"Geringwertige Wirtschaftsgüter (Investitionen bis zu EUR 1.000,--)",null,null,null,"-",null,{"$f":"IF(ISBLANK(E26),\"\",IF(AND(OR(F26>=10,F26<=-10),OR((D26-E26)>=1000,(D26-E26)<=-1000)),IF(ISBLANK(G26),'|'!B$56,\"\"),\"\"))","v":""}]
[null,"Investitionen über EUR 1.000,--",null,null,null,"-",null,{"$f":"IF(ISBLANK(E27),\"\",IF(AND(OR(F27>=10,F27<=-10),OR((D27-E27)>=1000,(D27-E27)<=-1000)),IF(ISBLANK(G27),'|'!B$56,\"\"),\"\"))","v":""}]
[null,null,null,null,null,"-",null,{"$f":"IF(ISBLANK(E28),\"\",IF(AND(OR(F28>=10,F28<=-10),OR((D28-E28)>=1000,(D28-E28)<=-1000)),IF(ISBLANK(G28),'|'!B$56,\"\"),\"\"))","v":""}]
[null,null,null,null,null,"-",null,{"$f":"IF(ISBLANK(E29),\"\",IF(AND(OR(F29>=10,F29<=-10),OR((D29-E29)>=1000,(D29-E29)<=-1000)),IF(ISBLANK(G29),'|'!B$56,\"\"),\"\"))","v":""}]
[null,null,null,null,null,"-",null,{"$f":"IF(ISBLANK(E30),\"\",IF(AND(OR(F30>=10,F30<=-10),OR((D30-E30)>=1000,(D30-E30)<=-1000)),IF(ISBLANK(G30),'|'!B$56,\"\"),\"\"))","v":""}]
[null,null,null,null,null,"-",null,{"$f":"IF(ISBLANK(E31),\"\",IF(AND(OR(F31>=10,F31<=-10),OR((D31-E31)>=1000,(D31-E31)<=-1000)),IF(ISBLANK(G31),'|'!B$56,\"\"),\"\"))","v":""}]
[null,null,null,null,null,"-",null,{"$f":"IF(ISBLANK(E32),\"\",IF(AND(OR(F32>=10,F32<=-10),OR((D32-E32)>=1000,(D32-E32)<=-1000)),IF(ISBLANK(G32),'|'!B$56,\"\"),\"\"))","v":""}]
[null,null,null,null,null,"-",null,{"$f":"IF(ISBLANK(E33),\"\",IF(AND(OR(F33>=10,F33<=-10),OR((D33-E33)>=1000,(D33-E33)<=-1000)),IF(ISBLANK(G33),'|'!B$56,\"\"),\"\"))","v":""}]
[null,null,null,null,null,"-",null,{"$f":"IF(ISBLANK(E34),\"\",IF(AND(OR(F34>=10,F34<=-10),OR((D34-E34)>=1000,(D34-E34)<=-1000)),IF(ISBLANK(G34),'|'!B$56,\"\"),\"\"))","v":""}]
[null,null,null,null,null,"-",null,{"$f":"IF(ISBLANK(E35),\"\",IF(AND(OR(F35>=10,F35<=-10),OR((D35-E35)>=1000,(D35-E35)<=-1000)),IF(ISBLANK(G35),'|'!B$56,\"\"),\"\"))","v":""}]
[null,null,null,null,null,"-",null,{"$f":"IF(ISBLANK(E36),\"\",IF(AND(OR(F36>=10,F36<=-10),OR((D36-E36)>=1000,(D36-E36)<=-1000)),IF(ISBLANK(G36),'|'!B$56,\"\"),\"\"))","v":""}]
[null,"GESAMT",{"$f":"SUM(C9:OFFSET(C37,-1,0))","v":0},{"$f":"SUM(D9:OFFSET(D37,-1,0))","v":0},{"$f":"SUM(E9:OFFSET(E37,-1,0))","v":0},"-"]
[null,"davon Overheadkosten",null,null,null,"-",null,{"$f":"IF(ISBLANK(E38),\"\",IF(AND(OR(F38>=10,F38<=-10),OR((D38-E38)>=1000,(D38-E38)<=-1000)),IF(ISBLANK(G38),'|'!B$56,\"\"),\"\"))","v":""}]
[null,"Overheadkosten in %",{"$f":"IF(C37,C38*100/C37,\"\")","v":""},{"$f":"IF(D37,D38*100/D37,\"\")","v":""},""]
[]
[null,"2. Personalkosten"]
["Ausgaben","Overhead",null,{"$f":"'Personalübersicht (Fb)'!I14","v":0},{"$f":"'Personalübersicht (Fb)'!H14","v":0},{"$f":"IF(OR(D42=0,E42=0),\"-\",E42/D42*100-100)","v":"-"},null,{"$f":"IF(ISBLANK(E42),\"\",IF(AND(OR(F42>=10,F42<=-10),OR((D42-E42)>=1000,(D42-E42)<=-1000)),IF(ISBLANK(G42),'|'!B$56,\"\"),\"\"))","v":""}]
[null,"Angebot/Projekt",null,{"$f":"'Personalübersicht (Fb)'!I55","v":0},{"$f":"'Personalübersicht (Fb)'!H55","v":0},{"$f":"IF(OR(D43=0,E43=0),\"-\",E43/D43*100-100)","v":"-"},null,{"$f":"IF(ISBLANK(E43),\"\",IF(AND(OR(F43>=10,F43<=-10),OR((D43-E43)>=1000,(D43-E43)<=-1000)),IF(ISBLANK(G43),'|'!B$56,\"\"),\"\"))","v":""}]
[null,"GESAMT",{"$f":"SUM(C42:C43)","v":0},0,{"$f":"SUM(E42:E43)","v":0},{"$f":"IF(OR(D44=0,E44=0),\"-\",E44/D44*100-100)","v":"-"}]
[null,"Overheadkosten in %",{"$f":"IF(C44,C42*100/C44,\"\")","v":""},{"$f":"IF(D44,D42*100/D44,\"\")","v":""},""]
[]
[null,"3. Gesamtkosten"]
[null,"Summe",{"$f":"C37+C44","v":0},{"$f":"D37+D44","v":0},0,{"$f":"IF(OR(D48=0,E48=0),\"-\",E48/D48*100-100)","v":"-"}]
[null,"davon Overhead",{"$f":"C38+C42","v":0},0,{"$f":"E38+E42","v":0},"-",null,{"$f":"IF(ISBLANK(E49),\"\",IF(AND(OR(F49>=10,F49<=-10),OR((D49-E49)>=1000,(D49-E49)<=-1000)),IF(ISBLANK(G49),'|'!B$56,\"\"),\"\"))","v":""}]
[null,"Overhead in %",{"$f":"IF(C48,C49*100/C48,\"\")","v":""},{"$f":"IF(D48,D49*100/D48,\"\")","v":""},""]
[]
[]
[null,"4. Einnahmen/Eigenmittel (Em)"]
["Einnahmen","Eigene Einnahmen (Mitgliedsbeiträge, Unkostenbeiträge,…)",null,null,null,{"$f":"IF(OR(D54=0,E54=0),\"-\",E54/D54*100-100)","v":"-"},null,{"$f":"IF(ISBLANK(E54),\"\",IF(AND(OR(F54>=10,F54<=-10),OR((D54-E54)>=1000,(D54-E54)<=-1000)),IF(ISBLANK(G54),'|'!B$56,\"\"),\"\"))","v":""}]
[null,"Spenden",null,null,null,{"$f":"IF(OR(D55=0,E55=0),\"-\",E55/D55*100-100)","v":"-"},null,{"$f":"IF(ISBLANK(E55),\"\",IF(AND(OR(F55>=10,F55<=-10),OR((D55-E55)>=1000,(D55-E55)<=-1000)),IF(ISBLANK(G55),'|'!B$56,\"\"),\"\"))","v":""}]
[null,"Sponsoring",null,null,null,"-",null,{"$f":"IF(ISBLANK(E56),\"\",IF(AND(OR(F56>=10,F56<=-10),OR((D56-E56)>=1000,(D56-E56)<=-1000)),IF(ISBLANK(G56),'|'!B$56,\"\"),\"\"))","v":""}]
[null,"Auflösung Rücklagen/Rückstellungen",null,null,null,"-",null,{"$f":"IF(ISBLANK(E57),\"\",IF(AND(OR(F57>=10,F57<=-10),OR((D57-E57)>=1000,(D57-E57)<=-1000)),IF(ISBLANK(G57),'|'!B$56,\"\"),\"\"))","v":""}]
[null,null,null,null,null,"-",null,{"$f":"IF(ISBLANK(E58),\"\",IF(AND(OR(F58>=10,F58<=-10),OR((D58-E58)>=1000,(D58-E58)<=-1000)),IF(ISBLANK(G58),'|'!B$56,\"\"),\"\"))","v":""}]
[null,null,null,null,null,"-",null,{"$f":"IF(ISBLANK(E59),\"\",IF(AND(OR(F59>=10,F59<=-10),OR((D59-E59)>=1000,(D59-E59)<=-1000)),IF(ISBLANK(G59),'|'!B$56,\"\"),\"\"))","v":""}]
[null,null,null,null,null,"-",null,{"$f":"IF(ISBLANK(E60),\"\",IF(AND(OR(F60>=10,F60<=-10),OR((D60-E60)>=1000,(D60-E60)<=-1000)),IF(ISBLANK(G60),'|'!B$56,\"\"),\"\"))","v":""}]
[null,"Summe",{"$f":"SUM(C54:OFFSET(C61,-1,0))","v":0},{"$f":"SUM(D54:OFFSET(D61,-1,0))","v":0},{"$f":"SUM(E54:OFFSET(E61,-1,0))","v":0},"-"]
[null,null,null,null,null,null,null,{"$f":"IF(ISBLANK(E62),\"\",IF(AND(OR(F62>=10,F62<=-10),OR((D62-E62)>=1000,(D62-E62)<=-1000)),IF(ISBLANK(G62),'|'!B$56,\"\"),\"\"))","v":""}]
[null,"5. Förderungen (Fd)",null,null,null,null,null,{"$f":"IF(ISBLANK(E63),\"\",IF(AND(OR(F63>=10,F63<=-10),OR((D63-E63)>=1000,(D63-E63)<=-1000)),IF(ISBLANK(G63),'|'!B$56,\"\"),\"\"))","v":""}]
["Einnahmen","EU",null,null,null,{"$f":"IF(OR(D64=0,E64=0),\"-\",E64/D64*100-100)","v":"-"},null,{"$f":"IF(ISBLANK(E64),\"\",IF(AND(OR(F64>=10,F64<=-10),OR((D64-E64)>=1000,(D64-E64)<=-1000)),IF(ISBLANK(G64),'|'!B$56,\"\"),\"\"))","v":""}]
[null,"Bundesministerium, bitte jedes Ministerium einzeln anführen",null,null,null,{"$f":"IF(OR(D65=0,E65=0),\"-\",E65/D65*100-100)","v":"-"},null,{"$f":"IF(ISBLANK(E65),\"\",IF(AND(OR(F65>=10,F65<=-10),OR((D65-E65)>=1000,(D65-E65)<=-1000)),IF(ISBLANK(G65),'|'!B$56,\"\"),\"\"))","v":""}]
[null,"Stadt Wien (OHNE MA 13); bitte jede Magistratsabteilung einzeln anführen",null,null,null,"-",null,{"$f":"IF(ISBLANK(E66),\"\",IF(AND(OR(F66>=10,F66<=-10),OR((D66-E66)>=1000,(D66-E66)<=-1000)),IF(ISBLANK(G66),'|'!B$56,\"\"),\"\"))","v":""}]
[null,"Bezirk, bitte den jeweiligen Bezirk anführen",null,null,null,"-",null,{"$f":"IF(ISBLANK(E67),\"\",IF(AND(OR(F67>=10,F67<=-10),OR((D67-E67)>=1000,(D67-E67)<=-1000)),IF(ISBLANK(G67),'|'!B$56,\"\"),\"\"))","v":""}]
[null,"Sozialpartner",null,null,null,"-",null,{"$f":"IF(ISBLANK(E68),\"\",IF(AND(OR(F68>=10,F68<=-10),OR((D68-E68)>=1000,(D68-E68)<=-1000)),IF(ISBLANK(G68),'|'!B$56,\"\"),\"\"))","v":""}]
[null,"Sonstige",null,null,null,"-",null,{"$f":"IF(ISBLANK(E69),\"\",IF(AND(OR(F69>=10,F69<=-10),OR((D69-E69)>=1000,(D69-E69)<=-1000)),IF(ISBLANK(G69),'|'!B$56,\"\"),\"\"))","v":""}]
[null,null,null,null,null,"-",null,{"$f":"IF(ISBLANK(E70),\"\",IF(AND(OR(F70>=10,F70<=-10),OR((D70-E70)>=1000,(D70-E70)<=-1000)),IF(ISBLANK(G70),'|'!B$56,\"\"),\"\"))","v":""}]
[null,null,null,null,null,"-",null,{"$f":"IF(ISBLANK(E71),\"\",IF(AND(OR(F71>=10,F71<=-10),OR((D71-E71)>=1000,(D71-E71)<=-1000)),IF(ISBLANK(G71),'|'!B$56,\"\"),\"\"))","v":""}]
[null,null,null,null,null,"-",null,{"$f":"IF(ISBLANK(E72),\"\",IF(AND(OR(F72>=10,F72<=-10),OR((D72-E72)>=1000,(D72-E72)<=-1000)),IF(ISBLANK(G72),'|'!B$56,\"\"),\"\"))","v":""}]
[null,"Förderung MA 13",null,null,null,"-",null,{"$f":"IF(ISBLANK(E73),\"\",IF(AND(OR(F73>=10,F73<=-10),OR((D73-E73)>=1000,(D73-E73)<=-1000)),IF(ISBLANK(G73),'|'!B$56,\"\"),\"\"))","v":""}]
[null,"Summe",{"$f":"SUM(C64:OFFSET(C74,-1,0))","v":0},{"$f":"SUM(D64:OFFSET(D74,-1,0))","v":0},{"$f":"SUM(E64:OFFSET(E74,-1,0))","v":0},"-"]
[]
[null,"6. Gesamteinnahmen"]
[null,"Summe",{"$f":"C61+C74","v":0},{"$f":"D61+D74","v":0},{"$f":"E61+E74","v":0},{"$f":"IF(OR(D79=0,E79=0),\"-\",E79/D79*100-100)","v":"-"}]
[]
[null,"Differenz (Gesamteinnahmen - Gesamtausgaben)",{"$f":"C77-C48","v":0},{"$f":"D77-D48","v":0},{"$f":"E77-E48","v":0},{"$f":"IF(OR(D79=0,E79=0),\"-\",E79/D79*100-100)","v":"-"}]
[]
[]
[]
[]
[]
[]
[]
[]
[]
[]
[]
[]
[]
[]
[]
[]
[]
[null,null,null,"Gesamtförderung",null,null,null,"<- Bitte Begründung angeben"]
[null,null,null,"Einzeförderung"]

{"sheet":"Personalübersicht (Fb)","index":7,"n_rows":55,"n_cols":12,"rows_kept":55,"cut":false,"hidden":false,"merged":[[18,11,53,11],[54,0,54,4],[55,0,55,6],[55,8,55,9],[7,3,7,4],[8,3,8,4],[9,3,9,4],[11,3,11,4],[18,0,53,0],[16,10,16,11],[14,0,14,4],[14,8,14,9],[16,8,16,9],[10,3,10,4],[1,8,1,9],[1,10,1,11],[3,0,12,0],[3,11,12,11],[13,0,13,4],[2,3,2,4],[3,3,3,4],[4,3,4,4],[5,3,5,4],[12,3,12,4],[6,3,6,4]]}
[]
[null,null,null,null,null,null,null,null,{"$f":"Finanzbericht!$C$5 & \" (Plan)\"","v":"2023 (Plan)"},null,{"$f":"\"Vergleich Plan/Ist \" &Finanzbericht!$C$5","v":"Vergleich Plan/Ist 2023"}]
[null,"Funktion","höchste abgeschlossene Qualifikation","Eintritt",null,{"$f":"\"W-ST \" &Finanzbericht!$C$5& \" (Ist)\"","v":"W-ST 2023 (Ist)"},"Anstellungszeitraum im Förderjahr in Monaten",{"$f":"\"Lohnkosten inkl. LNK \" &Finanzbericht!$C$5& \" (Ist)\"","v":"Lohnkosten inkl. LNK 2023 (Ist)"},{"$f":"\"Lohnkosten inkl. LNK \" &Finanzbericht!$C$5& \" (Plan)\"","v":"Lohnkosten inkl. LNK 2023 (Plan)"},{"$f":"\"W-ST \" & Finanzbericht!$C$5 & \" (Plan)\"","v":"W-ST 2023 (Plan)"},"in Euro","in%"]
["Overhead",null,null,null,null,null,null,null,null,null,{"$f":"H4-I4","v":0}]
[null,null,null,null,null,null,null,null,null,null,{"$f":"H5-I5","v":0}]
[null,null,null,null,null,null,null,null,null,null,0]
[null,null,null,null,null,null,null,null,null,null,0]
[null,null,null,null,null,null,null,null,null,null,0]
[null,null,null,null,null,null,null,null,null,null,0]
[null,null,null,null,null,null,null,null,null,null,0]
[null,null,null,null,null,null,null,null,null,null,0]
[null,null,null,null,null,null,null,null,null,null,0]
[null,null,null,null,null,null,null,null,null,null,0]
["Overhead SUMME",null,null,null,null,{"$f":"SUM(F4:F13)","v":0},null,{"$f":"SUM(H4:H13)","v":0},{"$f":"SUM(I4:I13)","v":0},{"$f":"SUM(J4:J13)","v":0},{"$f":"H14-I14","v":0},{"$f":"IF(OR(I14=0,H14=0),\"-\",H14/I14*100-100)","v":"-"}]
["GESAMT"]
[]
[null,null,null,null,null,null,null,null,{"$f":"Finanzbericht!$C$5 & \" (Plan)\"","v":"2023 (Plan)"},null,{"$f":"\"Vergleich Plan/Ist \" &Finanzbericht!$C$5","v":"Vergleich Plan/Ist 2023"}]
[null,"Funktion","höchste abgeschlossene Qualifikation","Angebot / Projekt","Eintritt",{"$f":"\"W-ST \" &Finanzbericht!$C$5& \" (Ist)\"","v":"W-ST 2023 (Ist)"},"Anstellungszeitraum im Förderjahr in Monaten",{"$f":"\"Lohnkosten inkl. LNK \" &Finanzbericht!$C$5& \" (Ist)\"","v":"Lohnkosten inkl. LNK 2023 (Ist)"},{"$f":"\"Lohnkosten inkl. LNK \" &Finanzbericht!$C$5& \" (Plan)\"","v":"Lohnkosten inkl. LNK 2023 (Plan)"},{"$f":"\"W-ST \" & Finanzbericht!$C$5 & \" (Plan)\"","v":"W-ST 2023 (Plan)"},"in Euro","in%"]
["Angebot / Projekt",null,null,null,null,null,null,null,null,null,{"$f":"H19-I19","v":0}]
[null,null,null,null,null,null,null,null,null,null,{"$f":"H20-I20","v":0}]
[null,null,null,null,null,null,null,null,null,null,0]
[null,null,null,null,null,null,null,null,null,null,0]
[null,null,null,null,null,null,null,null,null,null,0]
[null,null,null,null,null,null,null,null,null,null,0]
[null,null,null,null,null,null,null,null,null,null,0]
[null,null,null,null,null,null,null,null,null,null,0]
[null,null,null,null,null,null,null,null,null,null,0]
[null,null,null,null,null,null,null,null,null,null,0]
[null,null,null,null,null,null,null,null,null,null,0]
[null,null,null,null,null,null,null,null,null,null,0]
[null,null,null,null,null,null,null,null,null,null,0]
[null,null,null,null,null,null,null,null,null,null,0]
[null,null,null,null,null,null,null,null,null,null,0]
[null,null,null,null,null,null,null,null,null,null,0]
[null,null,null,null,null,null,null,null,null,null,0]
[null,null,null,null,null,null,null,null,null,null,0]
[null,null,null,null,null,null,null,null,null,null,0]
[null,null,null,null,null,null,null,null,null,null,0]
[null,null,null,null,null,null,null,null,null,null,0]
[null,null,null,null,null,null,null,null,null,null,0]
[null,null,null,null,null,null,null,null,null,null,0]
[null,null,null,null,null,null,null,null,null,null,0]
[null,null,null,null,null,null,null,null,null,null,0]
[null,null,null,null,null,null,null,null,null,null,0]
[null,null,null,null,null,null,null,null,null,null,0]
[null,null,null,null,null,null,null,null,null,null,0]
[null,null,null,null,null,null,null,null,null,null,0]
[null,null,null,null,null,null,null,null,null,null,0]
[null,null,null,null,null,null,null,null,null,null,0]
[null,null,null,null,null,null,null,null,null,null,0]
[null,null,null,null,null,null,null,null,null,null,0]
[null,null,null,null,null,null,null,null,null,null,0]
[null,null,null,null,null,null,null,null,null,null,0]
[null,null,null,null,null,null,null,null,null,null,0]
["Angebot / Projekt SUMME",null,null,null,null,{"$f":"SUM(F19:F54)","v":0},null,{"$f":"SUM(H19:H54)","v":0},{"$f":"SUM(I19:I54)","v":0},{"$f":"SUM(J19:J54)","v":0},{"$f":"H55-I55","v":0},{"$f":"IF(OR(I55=0,H55=0),\"-\",H55/I55*100-100)","v":"-"}]